BEGIN:VCALENDAR
VERSION:2.0
PRODID:-//ChamberMaster//Event Calendar 2.0//EN
METHOD:PUBLISH
X-PUBLISHED-TTL:P3D
REFRESH-INTERVAL:P3D
CALSCALE:GREGORIAN
BEGIN:VEVENT
DTSTART;VALUE=DATE:20200914
DTEND;VALUE=DATE:20200919
TRANSP:TRANSPARENT
X-MICROSOFT-CDO-ALLDAYEVENT:TRUE
SUMMARY:Restaurant Week - Local Cuisine Restaurant Applications
DESCRIPTION:The Bethany-Fenwick Area Chamber of Commerce in partnership with Coastal Point presents Restaurant Week! The website\, LocalCuisineDE.com will feature all participating restaurants menus highlighting dine-in and take out options. The website will also display accommodation specials and packages. \n\n\n\nIn partnership with Coastal Point and the Delaware Tourism Office\, participate in The Quiet Resorts Restaurant Week on October 21 - October 25. Applications are due by September 18\, 2020.\n\n\n\nFor a printable restaurant application\, please click here. All forms can be returned to Melissa O'Brien at melissa@thequietresorts.com. Look for a special section in the Coastal Point October 21st highlighting all Restaurant Week participants and deals.
X-ALT-DESC;FMTTYPE=text/html:<span style="font-family: arial\;"><span style="font-size: 14px\;">The Bethany-Fenwick Area Chamber of Commerce in partnership with Coastal Point presents Restaurant Week! The website\, LocalCuisineDE.com will feature all participating restaurants menus highlighting dine-in and take out options. The website will also display accommodation specials and packages.&nbsp\;<br />\n<br />\nIn partnership with Coastal Point and the Delaware Tourism Office\, participate in The Quiet Resorts Restaurant Week on October&nbsp\;21 - October 25. Applications are due by September 18\, 2020.<br />\n<br />\nFor a printable restaurant application\, please <a href="https://chambermaster.blob.core.windows.net/userfiles/UserFiles/chambers/2126/File/Local_Cuisine_DE/RestaurantApplicationPROFILEEDITABLE.pdf" target="_blank">click here</a>. All forms can be returned to Melissa O&#39\;Brien at <a href="mailto:Melissa@thequietresorts.com">melissa@thequietresorts.com</a>. </span></span><span style="font-family: arial\;"><span style="font-size: 14px\;">Look for a special section in the Coastal Point October 21st highlighting all Restaurant Week participants and deals.&nbsp\;</span></span>
LOCATION:Local restaurants in the Quiet Resorts region.
UID:e.2126.21754
SEQUENCE:3
DTSTAMP:20260425T131154Z
URL:http://business.thequietresorts.com/events/details/restaurant-week-local-cuisine-restaurant-applications-21754
END:VEVENT

END:VCALENDAR
