BEGIN:VCALENDAR
VERSION:2.0
PRODID:-//ChamberMaster//Event Calendar 2.0//EN
METHOD:PUBLISH
X-PUBLISHED-TTL:P3D
REFRESH-INTERVAL:P3D
CALSCALE:GREGORIAN
BEGIN:VEVENT
DTSTART;VALUE=DATE:20201021
DTEND;VALUE=DATE:20201026
TRANSP:TRANSPARENT
X-MICROSOFT-CDO-ALLDAYEVENT:TRUE
SUMMARY:Restaurant Week - Local Cuisine
DESCRIPTION:Join us for first-ever Local Cuisine DE Restaurant Week - October 21-25!\n\nThe Bethany-Fenwick Area Chamber of Commerce in partnership with the Coastal Point are very excited to announce Restaurant Week. Participating restaurants will create a special menu or offering to showcase. Check in at LocalCuisineDE.com for offerings and participating restaurants!\n\nLocalCuisineDE.com will stay updated throughout the year to serve as your guide to eating in The Quiet Resorts. Find the perfect restaurant for you and your family or friends. \n \n\nIn partnership with Coastal Point and the Delaware Tourism Office\, participate in The Quiet Resorts Restaurant Week on October 21 - October 25.\n\n\n\nParticipating Restaurants:\n\nBethany Blues\n\nCrooked Hammock\n\nFork & Flask\n\nGood Earth Market\n\nHeidaway\n\nMatt's Fish Camp\n\nNortheast Seafood Kitchen\n\nOne Coastal\n\nShaka Shack\n\nSummer Salts\n\nThe Cottage Cafe\n\nThe Den\n\n\n\nParticipating Accommodations:\n\nBethany Beach Ocean Suites\n\nFenwick Shores\n\nHoliday Inn Express
X-ALT-DESC;FMTTYPE=text/html:<p dir="ltr" style="line-height: 1.38\; margin-top: 0pt\; margin-bottom: 0pt\;"><span id="docs-internal-guid-1497c18f-7fff-0ce9-11d0-32746ca4a1c3"><span style="color: rgb(0\, 0\, 0)\; font-family: Arial\; font-size: 12pt\; font-weight: 700\; vertical-align: baseline\; white-space: pre-wrap\; background-color: transparent\; font-variant-numeric: normal\; font-variant-east-asian: normal\; text-decoration-line: underline\; text-decoration-skip-ink: none\;">Join us for first-ever Local Cuisine DE Restaurant Week - October 21-25!</span></span></p>\n\n<p dir="ltr" style="line-height: 1.38\; margin-top: 0pt\; margin-bottom: 0pt\;"><span id="docs-internal-guid-1497c18f-7fff-0ce9-11d0-32746ca4a1c3"><span style="color: rgb(0\, 0\, 0)\; font-family: Arial\; font-size: 12pt\; vertical-align: baseline\; white-space: pre-wrap\; background-color: transparent\; font-variant-numeric: normal\; font-variant-east-asian: normal\;">The Bethany-Fenwick Area Chamber of Commerce in partnership with the Coastal Point are very excited to announce Restaurant Week. Participating restaurants will create a special menu or offering to showcase. Check in at LocalCuisineDE.com for offerings and participating restaurants!<br />\nLocalCuisineDE.com will stay updated throughout the year to serve as your guide to eating in The Quiet Resorts. Find the perfect restaurant for you and your family or friends. </span></span></p>\n&nbsp\;\n\n<p dir="ltr" style="line-height: 1.38\; margin-top: 0pt\; margin-bottom: 0pt\;"><span id="docs-internal-guid-1497c18f-7fff-0ce9-11d0-32746ca4a1c3"><span style="color: rgb(0\, 0\, 0)\; font-family: Arial\; font-size: 12pt\; vertical-align: baseline\; white-space: pre-wrap\; background-color: transparent\; font-variant-numeric: normal\; font-variant-east-asian: normal\;">In partnership with Coastal Point and the Delaware Tourism Office\, participate in The Quiet Resorts Restaurant Week on October 21 - October 25.<br />\n<br />\n<strong>Participating Restaurants:</strong><br />\n<a href="https://bethanyblues.com/">Bethany Blues</a><br />\n<a href="https://crookedhammockbrewery.com/">Crooked Hammock</a><br />\n<a href="https://forkandflask.com/">Fork &amp\; Flask</a><br />\n<a href="https://www.goodearthmarket.com/">Good Earth Market</a><br />\n<a href="https://heidawaybethany.com/">Heidaway</a><br />\n<a href="http://www.mattsfishcampbethany.com/">Matt&#39\;s Fish Camp</a><br />\n<a href="http://www.northeastseafoodkitchen.com/">Northeast Seafood Kitchen</a><br />\n<a href="http://www.onecoastal.com/">One Coastal</a><br />\n<a href="https://www.facebook.com/shakashack.live.eat.surf/">Shaka Shack</a><br />\n<a href="https://summersaltsbeachgrill.com/">Summer Salts</a><br />\n<a href="https://cottagecafe.com/">The Cottage Cafe</a><br />\n<a href="http://www.beartrapdunes.com/den-bar-grill/">The Den</a><br />\n<br />\n<strong>Participating Accommodations:</strong><br />\n<a href="https://www.marriott.com/hotels/travel/rehri-bethany-beach-ocean-suites-residence-inn/">Bethany Beach Ocean Suites</a><br />\n<a href="https://www.hilton.com/en/hotels/sbyfsup-fenwick-shores/">Fenwick Shores</a><br />\n<a href="https://www.ihg.com/holidayinnexpress/hotels/us/en/bethany-beach/bhnde/hoteldetail">Holiday Inn Express</a></span></span><br />\n&nbsp\;</p>\n
LOCATION:Local restaurants in the Quiet Resorts region
UID:e.2126.21778
SEQUENCE:3
DTSTAMP:20260425T131146Z
URL:http://business.thequietresorts.com/events/details/restaurant-week-local-cuisine-21778
END:VEVENT

END:VCALENDAR
