BEGIN:VCALENDAR
VERSION:2.0
PRODID:-//ChamberMaster//Event Calendar 2.0//EN
METHOD:PUBLISH
X-PUBLISHED-TTL:P3D
REFRESH-INTERVAL:P3D
CALSCALE:GREGORIAN
BEGIN:VEVENT
DTSTART:20220623T230000Z
DTEND:20220624T020000Z
X-MICROSOFT-CDO-ALLDAYEVENT:FALSE
SUMMARY:Resistance Revival Chorus
DESCRIPTION:The Resistance Revival Chorus (RRC) is a collective of more than 60 womxn\, and non-binary singers\, who join together to breathe joy and song into the resistance\, and to uplift and center women's voices.\n\n\n\nChorus members are touring musicians\, film and television actors\, Broadway performers\, solo recording artists\, gospel singers\, political activists\, educators\, filmmakers\, artists\, and more\, representing a multitude of identities\, professions\, creative backgrounds\, and activist causes.\n\n\n\nWe center womxn in music\, and address how historically marginalized womxn have been in the music industry. The great artist and activist Harry Belafonte once said\, "when the movement is strong\, the music is strong" and we attempt to live up to that call.\n\n\n\nThe RRC calls for justice and equity for womxn across racial\, ethnic\, economic\, sexual identity and religious lines. We aim to be intersectional in our feminism and reveal that all social justice issues overlap heavily with womxn's issues\; to harness the collective power of womxn to help change the world\; to celebrate each other through song\; to embrace Toi Dericotte's idea of "joy as an act of resistance."
X-ALT-DESC;FMTTYPE=text/html:<span style="font-size:14px\;"><span style="font-family:arial\;">The Resistance Revival Chorus (RRC) is a collective of more than 60 womxn\, and non-binary singers\, who join together to breathe joy and song into the resistance\, and to uplift and center women&rsquo\;s voices.<br />\n<br />\nChorus members are touring musicians\, film and television actors\, Broadway performers\, solo recording artists\, gospel singers\, political activists\, educators\, filmmakers\, artists\, and more\, representing a multitude of identities\, professions\, creative backgrounds\, and activist causes.<br />\n<br />\nWe center womxn in music\, and address how historically marginalized womxn have been in the music industry. The great artist and activist Harry Belafonte once said\, &ldquo\;when the movement is strong\, the music is strong&rdquo\; and we attempt to live up to that call.<br />\n<br />\nThe RRC calls for justice and equity for womxn across racial\, ethnic\, economic\, sexual identity and religious lines. We aim to be intersectional in our feminism and reveal that all social justice issues overlap heavily with womxn&rsquo\;s issues\; to harness the collective power of womxn to help change the world\; to celebrate each other through song\; to embrace Toi Dericotte&rsquo\;s idea of &ldquo\;joy as an act of resistance.&rdquo\;</span></span>
LOCATION:FREEMAN ARTS PAVILION 31806 Lakeview Drive Selbyville\, DE 19975
UID:e.2126.23551
SEQUENCE:3
DTSTAMP:20260421T222817Z
URL:http://business.thequietresorts.com/events/details/resistance-revival-chorus-23551
END:VEVENT

END:VCALENDAR
