BEGIN:VCALENDAR
VERSION:2.0
PRODID:-//ChamberMaster//Event Calendar 2.0//EN
METHOD:PUBLISH
X-PUBLISHED-TTL:P3D
REFRESH-INTERVAL:P3D
CALSCALE:GREGORIAN
BEGIN:VEVENT
DTSTART:20231104T190000Z
DTEND:20231104T220000Z
X-MICROSOFT-CDO-ALLDAYEVENT:FALSE
SUMMARY:Religious Gift Shop Open House - St Ann Parish - Delaney Hall
DESCRIPTION:Join us for our Religious Gift Shop Open House at St Ann Church in Delaney Hall November 4th & 5th.       \n\n\n\nWe have a variety of gifts including advent calendars\, candles\, wreaths\, statues\, rosaries\, pyxes\, medals\, nativity sets\, Christmas cards\, ornaments\, stocking stuffers\, jewelry\, lighted pictures\, baby items\, and many other gift Items.
X-ALT-DESC;FMTTYPE=text/html:Join us for our Religious Gift Shop Open House at St Ann Church in Delaney Hall November 4th &amp\; 5th.&nbsp\;&nbsp\; &nbsp\; &nbsp\;&nbsp\;<br />\n<br />\nWe have a variety of gifts including advent calendars\, candles\, wreaths\, statues\, rosaries\, pyxes\, medals\, nativity sets\, Christmas cards\, ornaments\, stocking stuffers\, jewelry\, lighted pictures\, baby items\, and many other gift Items.
LOCATION:St Ann Church - Delaney Hall 651 Garfield Parkway Bethany Beach DE 19930
UID:e.2126.27061
SEQUENCE:3
DTSTAMP:20260420T182227Z
URL:http://business.thequietresorts.com/events/details/religious-gift-shop-open-house-st-ann-parish-delaney-hall-27061
END:VEVENT

END:VCALENDAR
