BEGIN:VCALENDAR
VERSION:2.0
PRODID:-//ChamberMaster//Event Calendar 2.0//EN
METHOD:PUBLISH
X-PUBLISHED-TTL:P3D
REFRESH-INTERVAL:P3D
CALSCALE:GREGORIAN
BEGIN:VEVENT
DTSTART:20240319T160000Z
DTEND:20240319T170000Z
X-MICROSOFT-CDO-ALLDAYEVENT:FALSE
SUMMARY:Rejuvenation Skin Wellness & Aesthetics - New Location Ribbon Cutting
DESCRIPTION:Join the Bethany-Fenwick Area Chamber of Commerce on Tuesday\, March 19th\, for a ribbon cutting celebrating Rejuvenation Skin Wellness & Aesthetics' new location!  Rejuvenation Skin Wellness & Aesthetics' mission is to deliver high quality and comprehensive aesthetic services to the local community with excellence\, compassion\, and competence.  \n\n\n\nThe event will start at 12:00PM with the ribbon to be cut at 12:30PM!  Swing by on your lunch hour to see the new office\, meet the staff\, and learn more about their wide array of services.  Refreshments will be provided!
X-ALT-DESC;FMTTYPE=text/html:Join the Bethany-Fenwick Area Chamber of Commerce on Tuesday\, March 19th\, for a ribbon cutting celebrating Rejuvenation Skin Wellness &amp\; Aesthetics&#39\; new location!&nbsp\; Rejuvenation Skin Wellness &amp\; Aesthetics&#39\; mission is to deliver high quality and comprehensive aesthetic services to the local community with excellence\, compassion\, and competence.&nbsp\;&nbsp\;<br />\n<br />\nThe event will start at 12:00PM with the ribbon to be cut at 12:30PM!&nbsp\; Swing by on your lunch hour to see the new office\, meet the staff\, and learn more about their wide array of services.&nbsp\; Refreshments will be provided!
LOCATION:32412 Dukes Dr. Millville\, DE\, 19967
UID:e.2126.28514
SEQUENCE:3
DTSTAMP:20260420T075143Z
URL:http://business.thequietresorts.com/events/details/rejuvenation-skin-wellness-aesthetics-new-location-ribbon-cutting-28514
END:VEVENT

END:VCALENDAR
