BEGIN:VCALENDAR
VERSION:2.0
PRODID:-//ChamberMaster//Event Calendar 2.0//EN
METHOD:PUBLISH
X-PUBLISHED-TTL:P3D
REFRESH-INTERVAL:P3D
CALSCALE:GREGORIAN
BEGIN:VEVENT
DTSTART;VALUE=DATE:20240118
DTEND;VALUE=DATE:20240302
TRANSP:TRANSPARENT
X-MICROSOFT-CDO-ALLDAYEVENT:TRUE
SUMMARY:Registration Open Now: Mermaids in Mexico Certification Retreat
DESCRIPTION:Join Mermaid Tasha in Mexico for a Certification Retreat from November 15 - 23\, 2024!\n\n\n\nThere are 8 spots available on Mermaid Tasha's first international retreat to Cabo San Lucas\, Mexico this November. During the 9 day retreat\, participants will earn their mermaid certification from the Professional Association of Dive Instructors (PADI)\, swim with sea lions and whale sharks\, and learn about turtle conservation while creating friendships and memories that will last a lifetime.\n\n\n\nMore information can be found online at https://www.mermaidtasha.com/post/mermaids-in-mexico-certification-retreat.\n\n\n\nThe deadline to reserve a spot is March 1\, with final payments due by September 29. Email Tasha to book at info@mermaidtasha.com.
X-ALT-DESC;FMTTYPE=text/html:<span style="font-size:14px\;"><span style="font-family:arial\;">Join Mermaid Tasha in Mexico for a&nbsp\;Certification Retreat from November 15 - 23\, 2024!<br />\n<br />\nThere are 8 spots available on Mermaid Tasha&rsquo\;s first international retreat to Cabo San Lucas\, Mexico this November. During the 9 day retreat\, participants will earn their mermaid certification from the Professional Association of Dive Instructors (PADI)\, swim with sea lions and whale sharks\, and learn about turtle conservation while creating friendships and memories that will last a lifetime.<br />\n<br />\nMore information can be found online at <a href="https://www.mermaidtasha.com/post/mermaids-in-mexico-certification-retreat"><span style="color:#1155CC\;">https://www.mermaidtasha.com/post/mermaids-in-mexico-certification-retreat</span></a>.<br />\n<br />\nThe deadline to reserve a spot is March 1\, with final payments due by September 29. Email Tasha to book at <a href="mailto:info@mermaidtasha.com"><span style="color:#1155CC\;">info@mermaidtasha.com</span></a>.&nbsp\;</span></span>
LOCATION:Cabo San Lucas\, Mexico
UID:e.2126.27796
SEQUENCE:3
DTSTAMP:20260420T073945Z
URL:http://business.thequietresorts.com/events/details/registration-open-now-mermaids-in-mexico-certification-retreat-27796
END:VEVENT

END:VCALENDAR
