BEGIN:VCALENDAR
VERSION:2.0
PRODID:-//ChamberMaster//Event Calendar 2.0//EN
METHOD:PUBLISH
X-PUBLISHED-TTL:P3D
REFRESH-INTERVAL:P3D
CALSCALE:GREGORIAN
BEGIN:VEVENT
DTSTART:20230425T150000Z
DTEND:20230425T170000Z
X-MICROSOFT-CDO-ALLDAYEVENT:FALSE
SUMMARY:Registration Open Now: BBVFCA Tea Party & Fashion Show
DESCRIPTION:Come out to a Tea Party & Fashion Show on Tuesday April 25th at Cripple Creek Golf and Country Club\, benefitting the Bethany Beach Volunteer Fire Company. \n\n\n\n- RSVP by April 11th\, $40 per ticket\n\n- Fashions provided by Chico's\n\n- Menu: Scones w/Lemon Curd\, Cup of Tomato Soup\, Assorted Tea Sandwiches\, and Sweets.\n\n- Drinks: Hot Tea\, Soft Drinks & Lemonade. Cash Bar.\n\n\n\nMake checks payable to BBVFCA at PO Box 950\, Bethany Beach DE 19930
X-ALT-DESC;FMTTYPE=text/html:Come out to a Tea Party &amp\; Fashion Show on Tuesday April 25th at Cripple Creek Golf and Country Club\, benefitting the Bethany Beach Volunteer Fire Company.&nbsp\;<br />\n<br />\n- RSVP by April 11th\, $40 per ticket<br />\n-&nbsp\;Fashions provided by Chico&#39\;s<br />\n-&nbsp\;Menu: Scones w/Lemon Curd\, Cup of Tomato Soup\, Assorted Tea Sandwiches\, and Sweets.<br />\n- Drinks:&nbsp\;Hot Tea\, Soft Drinks &amp\; Lemonade. Cash Bar.<br />\n<br />\nMake checks payable to BBVFCA at PO Box 950\, Bethany Beach DE 19930
LOCATION:Cripple Creek Golf and Country Club 29494 Cripple Creek Road Dagsboro DE 19939
UID:e.2126.25277
SEQUENCE:3
DTSTAMP:20260421T055449Z
URL:http://business.thequietresorts.com/events/details/registration-open-now-bbvfca-tea-party-fashion-show-25277
END:VEVENT

END:VCALENDAR
