BEGIN:VCALENDAR
VERSION:2.0
PRODID:-//ChamberMaster//Event Calendar 2.0//EN
METHOD:PUBLISH
X-PUBLISHED-TTL:P3D
REFRESH-INTERVAL:P3D
CALSCALE:GREGORIAN
BEGIN:VEVENT
DTSTART;VALUE=DATE:20231005
DTEND;VALUE=DATE:20231206
TRANSP:TRANSPARENT
X-MICROSOFT-CDO-ALLDAYEVENT:TRUE
SUMMARY:Registration Open Now: After School Programming at Hurricane Martial Arts!
DESCRIPTION:Looking for something fun for the kids to do after school?\n\n\n\nWe are now enrolling for the After School Program that includes transportation and will cover martial arts\, self-defense\, stranger danger\, bully beware\, verbal judo\, and fitness/activities. Here your kids can learn confidence\, focus\, and respect.\n\nOur new location is at 33262 Main Street in Dagsboro.\n\nTo enroll\, call 302-732-9097 or visit www.hapkidous.com.
X-ALT-DESC;FMTTYPE=text/html:<p class="xmsonormal"><span style="font-size:12.0pt">Looking for something fun for the kids to do after school?<br />\n<br />\nWe are now enrolling for the After School Program that includes transportation&nbsp\;and will cover martial arts\, self-defense\, stranger danger\, bully beware\, verbal judo\, and fitness/activities. Here your kids can learn confidence\, focus\, and respect.</span><o:p></o:p></p>\n\n<p class="xmsonormal"><span style="font-size:12.0pt">Our new location is at <span style="color:black">33262 Main Street in Dagsboro.</span></span><o:p></o:p></p>\n\n<p class="xmsonormal"><span style="color: black\; font-size: 12pt\;">To enroll\, call 302-732-9097 or visit </span><a href="http://www.hapkidous.com" style="font-size: 12pt\;">www.hapkidous.com</a><span style="color: black\; font-size: 12pt\;">.</span></p>\n\n<p class="xmsonormal"><o:p></o:p></p>\n
LOCATION:33262 Main St. Dagsboro\, DE 19939
UID:e.2126.27005
SEQUENCE:3
DTSTAMP:20260420T151141Z
URL:http://business.thequietresorts.com/events/details/registration-open-now-after-school-programming-at-hurricane-martial-arts-27005
END:VEVENT

END:VCALENDAR
