BEGIN:VCALENDAR
VERSION:2.0
PRODID:-//ChamberMaster//Event Calendar 2.0//EN
METHOD:PUBLISH
X-PUBLISHED-TTL:P3D
REFRESH-INTERVAL:P3D
CALSCALE:GREGORIAN
BEGIN:VEVENT
DTSTART;VALUE=DATE:20231031
DTEND;VALUE=DATE:20231125
TRANSP:TRANSPARENT
X-MICROSOFT-CDO-ALLDAYEVENT:TRUE
SUMMARY:Registration Open: Bethany Beach Coastal Christmas Showdown
DESCRIPTION:Do you think you have the most festive home or business in Bethany Beach?  Enter the 2023 Coastal Christmas Showdown to find out!\n\n\n\nContest Rules:\n\nEligibility:\n\n	Participation is open to all homes and businesses within the corporate limits of Bethany Beach and the Salt Pond.\n	Entry is free!\n	Town Council members and staff are not eligible to win but are encouraged to participate.\n	By entering TOBB's Annual Coastal Christmas Showdown\, you agree to abide by TOBB's official contest rules and decisions. \n\nHow to Enter: \n\n\n	Registration must be submitted between Wednesday\, November 1st\, and Friday\, November 24th (or when the maximum of 50 entries is reached).  Registration must be completed online via the green 'Register' button at the top of this page.  Incomplete entries or those that do not adhere to the Contest Rules will be disqualified at judges' discretion. \n	Participants agree to have thier address posted on the Bethany Beach website/Facebook page. \n	Participants agree to have one or more photos of their decorated residence/business exterior posted on the Bethany Beach website/Facebook page.  Pictures may also be posted in other social media outlets and in local media publications or websites.  Participants agree there will be no compensationof any kind for said posting or publication. \n	For judging\, participants should ensure that all lights and decorations are in place and illuminated during the week of November 25th to December 1st\, after sunset. \n\nJudging: \n\n\n	The contest is for exterior decorations only.  Judging will be completed from outside the residence only.\n	Online voting will open on November 25\, 2023\, via web link.  Entries with the most votes will win\, with a minimum of 1 prize and maximum of 5 prizes awarded per home/business division\, for each of the five (5) categories below: \n\n\n\n	Best Coastal Theme - Public Voting\n	Most Elegant (Best use of White Lights) - Public Voting\n	Most Festive (Best use of Color Lights) - Public Voting\n	Best Use of Animation and/or Audio Special FX - Public Voting\n	Business Grand Prize...Judge's Favorite! - Judge Voting Only\n\n\n\n	Starting November 25th\, the community will be able to submit votes for winners in four (4) public voting categories listed above. \n	Judging will be based on "curb appearl" as viewed from the street only.  Therefore\, only those decorations located on the street side of the property will be judged (corner lots will be judged from both streets).  Judges will not enter the property to view back or side yards.\n	Photos and/or videos will be posted to the Town's Facebook and Instagram accounts\, as well as www.townofbethanybeach.com to serve as a reminder of each entry.  The Town does not intend for votes to be based on the photos\; photos are to remind voters of what they saw in person. \n	On December 2nd\, 9th\, and 16th\, Town trolleys will take visitors on a tour to view all houses and businesses participating in the Coastal Christmas Showdown.  An interactive Google Map and address list will be available to those wanting to drive themselves\, or see displays mid-week.\n\nPrizes and Notification of Winners: \n\n\n	Prizes include a "winner" sign for your lawn or business.  The Coastal Point and Bethany-Fenwick Area Chamber of Commerce will provide prizes for the winning business entries. \n	Winners will be notified via the email or telephone number included in their registration.  On Saturday\, December 2nd\, prizes will be awarded in person at the Bandstand Tree Lighting ceremony at 5:00PM\, followed by a Block Party on the Plaza for all in attendance. \n	Winning entries will be posted after December 2nd on the TOBB social media pages and website.\n	By accepting the prize\, the selected winners grant permission to the Town of Bethany Beach to use their name\, entry\, and photo for advertising.
X-ALT-DESC;FMTTYPE=text/html:Do you think you have the most festive home or business in Bethany Beach?&nbsp\; Enter the 2023 Coastal Christmas Showdown to find out!<br />\n<br />\n<strong>Contest Rules:</strong><br />\n<em>Eligibility:</em>\n<ol>\n	<li>Participation is open to all homes and businesses within the corporate limits of Bethany Beach and the Salt Pond.</li>\n	<li>Entry is free!</li>\n	<li>Town Council members and staff are not eligible to win but are encouraged to participate.</li>\n	<li>By entering TOBB&#39\;s Annual Coastal Christmas Showdown\, you agree to abide by TOBB&#39\;s&nbsp\;official contest rules and decisions.&nbsp\;</li>\n</ol>\n<em>How to Enter:</em>&nbsp\;\n\n<ol>\n	<li>Registration must be submitted between Wednesday\, November 1st\, and Friday\, November 24th (or when the maximum of 50 entries is reached).&nbsp\; Registration must be completed online via the green &#39\;Register&#39\; button at the top of this page.&nbsp\; Incomplete entries or those that do not adhere to the Contest Rules will be disqualified at judges&#39\; discretion.&nbsp\;</li>\n	<li>Participants agree to have thier address posted on the Bethany Beach website/Facebook page.&nbsp\;</li>\n	<li>Participants agree to have one or more photos of their decorated residence/business exterior posted on the Bethany Beach website/Facebook page.&nbsp\; Pictures may also be posted in other social media outlets and in local media publications or websites.&nbsp\; Participants agree there will be no compensationof any kind for said posting or publication.&nbsp\;</li>\n	<li>For judging\, participants should ensure that all lights and decorations are in place and illuminated during the week of November 25th to December 1st\, after sunset.&nbsp\;</li>\n</ol>\n<em>Judging:&nbsp\;</em>\n\n<ol>\n	<li>The contest is for exterior decorations only.&nbsp\; Judging will be completed from outside the residence only.</li>\n	<li>Online voting will open on November 25\, 2023\, via web link.&nbsp\; Entries with the most votes will win\, with a minimum of 1 prize and maximum of 5 prizes awarded per home/business division\, for each of the five (5) categories below:&nbsp\;</li>\n</ol>\n\n<ul style="margin-left: 40px\;">\n	<li>Best Coastal Theme - Public Voting</li>\n	<li>Most Elegant (Best use of White Lights) - Public Voting</li>\n	<li>Most Festive (Best use of Color Lights) - Public Voting</li>\n	<li>Best Use of Animation and/or Audio Special FX - Public Voting</li>\n	<li>Business Grand Prize...Judge&#39\;s Favorite! - Judge Voting Only</li>\n</ul>\n\n<ol start="3">\n	<li>Starting November 25th\, the community will be able to submit votes for winners in four (4) public voting categories listed above.&#8203\;</li>\n	<li>Judging will be based on &quot\;curb appearl&quot\; as viewed from the street only.&nbsp\; Therefore\, only those decorations located on the street side of the property will be judged (corner lots will be judged from both streets).&nbsp\; Judges will not enter the property to view back or side yards.</li>\n	<li>Photos and/or videos will be posted to the Town&#39\;s Facebook and Instagram accounts\, as well as www.townofbethanybeach.com to serve as a reminder of each entry.&nbsp\; The Town does not intend for votes to be based on the photos\; photos are to remind voters of what they saw in person.&nbsp\;</li>\n	<li>On December 2nd\, 9th\, and 16th\, Town trolleys will take visitors on a tour to view all houses and businesses participating in the Coastal Christmas Showdown.&nbsp\; An interactive Google Map and address list will be available to those wanting to drive themselves\, or see displays mid-week.</li>\n</ol>\n<em>Prizes and Notification of Winners:&nbsp\;</em>\n\n<ol>\n	<li>Prizes include a &quot\;winner&quot\; sign for your lawn or business.&nbsp\; The Coastal Point and Bethany-Fenwick Area Chamber of Commerce will provide prizes for the winning business entries.&nbsp\;</li>\n	<li>Winners will be notified via the email or telephone number included in their registration.&nbsp\; On Saturday\, December 2nd\, prizes will be awarded in person at the Bandstand Tree Lighting ceremony at 5:00PM\, followed by a Block Party on the Plaza for all in attendance.&nbsp\;</li>\n	<li>Winning entries will be posted after December 2nd on the TOBB social media pages and website.</li>\n	<li>By accepting the prize\, the selected winners grant permission to the Town of Bethany Beach to use their name\, entry\, and photo for advertising.&nbsp\;</li>\n</ol>\n
LOCATION:Participation is open to all homes and businesses within the corporate limits of Bethany Beach and the Salt Pond.
UID:e.2126.27032
SEQUENCE:3
DTSTAMP:20260420T164712Z
URL:http://business.thequietresorts.com/events/details/registration-open-bethany-beach-coastal-christmas-showdown-27032
END:VEVENT

END:VCALENDAR
