BEGIN:VCALENDAR
VERSION:2.0
PRODID:-//ChamberMaster//Event Calendar 2.0//EN
METHOD:PUBLISH
X-PUBLISHED-TTL:P3D
REFRESH-INTERVAL:P3D
CALSCALE:GREGORIAN
BEGIN:VEVENT
DTSTART:20230609T233000Z
DTEND:20230610T010000Z
X-MICROSOFT-CDO-ALLDAYEVENT:FALSE
SUMMARY:Red Dirt Revolution
DESCRIPTION:When you need your country fix\, look no further than RDR.  This Baltimore-based country act delivers your favorite hits with a driving dual guitar sound and pinpoint harmony vocals.
X-ALT-DESC;FMTTYPE=text/html:When you need your country fix\, look no further than RDR. &nbsp\;This Baltimore-based country act delivers your favorite hits with a driving dual guitar sound and pinpoint harmony vocals. &nbsp\;
LOCATION:Bethany Beach Bandstand
UID:e.2126.25350
SEQUENCE:3
DTSTAMP:20260421T004756Z
URL:http://business.thequietresorts.com/events/details/red-dirt-revolution-06-09-2023-25350
END:VEVENT

END:VCALENDAR
