BEGIN:VCALENDAR
VERSION:2.0
PRODID:-//ChamberMaster//Event Calendar 2.0//EN
METHOD:PUBLISH
X-PUBLISHED-TTL:P3D
REFRESH-INTERVAL:P3D
CALSCALE:GREGORIAN
BEGIN:VEVENT
DTSTART:20200123T140000Z
DTEND:20200123T160000Z
X-MICROSOFT-CDO-ALLDAYEVENT:FALSE
SUMMARY:Recruitment & Retention Strategies
DESCRIPTION:HR professionals and business owners will learn strategies for:\n\ngenerating a continuous flow of qualified applicants\, hiring and retaining\n\nthe best employees to increase profit and increasing the effectiveness\n\nof your recruitment dollars.\n\n\n\nChris is a nationally recognized recruitment and retention consultant and\n\nan accredited speaker with SHRM. All HR professionals attending the\n\nseminar will earn 2 PDC's for the SHRM-CP or SHRM-SCP.\n\n\n\n\n\nRegister today with your Forever Media representative or\n\ncall John Riebel at 302-260-7124 or email him at\n\njriebel@forevermediainc.com.\n\n\n\nYou can also register online at http://www.foreverdelmarva.com
X-ALT-DESC;FMTTYPE=text/html:HR professionals and business owners will learn strategies for:<br />\ngenerating a continuous flow of qualified applicants\, hiring and retaining<br />\nthe best employees to increase profit and increasing the effectiveness<br />\nof your recruitment dollars.<br />\n<br />\nChris is a nationally recognized recruitment and retention consultant and<br />\nan accredited speaker with SHRM. All HR professionals attending the<br />\nseminar will earn 2 PDC&rsquo\;s for the SHRM-CP or SHRM-SCP.<br />\n<br />\n<br />\nRegister today with your Forever Media representative or<br />\ncall John Riebel at 302-260-7124 or email him at<br />\njriebel@forevermediainc.com.<br />\n<br />\nYou can also register online at&nbsp\;<a href="http://www.foreverdelmarva.com">http://www.foreverdelmarva.com</a>
LOCATION:The Rookery North 6152 S. Rehoboth Blvd Milford\, DE 19963
UID:e.2126.19548
SEQUENCE:3
DTSTAMP:20260426T020832Z
URL:http://business.thequietresorts.com/events/details/recruitment-retention-strategies-19548
END:VEVENT

END:VCALENDAR
