BEGIN:VCALENDAR
VERSION:2.0
PRODID:-//ChamberMaster//Event Calendar 2.0//EN
METHOD:PUBLISH
X-PUBLISHED-TTL:P3D
REFRESH-INTERVAL:P3D
CALSCALE:GREGORIAN
BEGIN:VEVENT
DTSTART:20240624T200000Z
DTEND:20240624T220000Z
X-MICROSOFT-CDO-ALLDAYEVENT:FALSE
SUMMARY:Realtor Happy Hour at Perfect Furnishings
DESCRIPTION:Come sip\, shop\, and mingle at Perfect Furnishings' Realtors Happy Hour on Monday\, June 24th!  From 4:00 - 6:00 PM Perfect Furnishings is hosting this fun and casual gathering where real estate professionals can mingle\, browse\, and learn about the perks that Perfect Furnishings offers to their realtors.  Cocktails and hors'deourves will be provided\, plus a one-time storewide promo!\n\n\n\nMake sure to bring your business cards for a chance to win one of the lovely gift baskets full of goodies. \n\n\n\nClick here to RSVP!
X-ALT-DESC;FMTTYPE=text/html:Come sip\, shop\, and mingle at Perfect Furnishings&#39\; Realtors Happy Hour on Monday\, June 24th!&nbsp\; From 4:00 - 6:00 PM Perfect Furnishings is hosting this fun and casual gathering where real estate professionals can mingle\, browse\, and learn about the perks that Perfect Furnishings offers to their realtors.&nbsp\; Cocktails and hors&#39\;deourves will be provided\, plus a one-time storewide promo!<br />\n<br />\nMake sure to bring your business cards for a chance to win one of the lovely gift baskets full of goodies.&nbsp\;<br />\n<br />\n<a href="https://www.eventbrite.com/e/realtors-happy-hour-tickets-921024959447">Click here to RSVP!</a>
LOCATION:Perfect Furnishings 39597 Jefferson Bridge Rd. Bethany Beach DE 19930
UID:e.2126.30271
SEQUENCE:3
DTSTAMP:20260422T092203Z
URL:http://business.thequietresorts.com/events/details/realtor-happy-hour-at-perfect-furnishings-30271
END:VEVENT

END:VCALENDAR
