BEGIN:VCALENDAR
VERSION:2.0
PRODID:-//ChamberMaster//Event Calendar 2.0//EN
METHOD:PUBLISH
X-PUBLISHED-TTL:P3D
REFRESH-INTERVAL:P3D
CALSCALE:GREGORIAN
BEGIN:VEVENT
DTSTART:20210715T233000Z
DTEND:20210716T010000Z
X-MICROSOFT-CDO-ALLDAYEVENT:FALSE
SUMMARY:Real Diamond
DESCRIPTION:Real Diamond is a professional tribute band dedicated to the faithful re-creation of the live Neil Diamond experience   four decades of incredible\, unforgettable songs. www.realdiamondband.com
X-ALT-DESC;FMTTYPE=text/html:<span style="background-color:rgba(255\, 255\, 255\, 0.95)\; color:rgb(68\, 68\, 68)\; font-family:arial\; font-size:14.4px">Real Diamond is a professional tribute band dedicated to the faithful re-creation of the live Neil Diamond experience &ndash\; four decades of incredible\, unforgettable songs. www.realdiamondband.com</span>
LOCATION:Bethany Beach Bandstand Garfield Parkway & Boardwalk\, Bethany Beach
UID:e.2126.22571
SEQUENCE:3
DTSTAMP:20260424T190110Z
URL:http://business.thequietresorts.com/events/details/real-diamond-22571
END:VEVENT

END:VCALENDAR
