BEGIN:VCALENDAR
VERSION:2.0
PRODID:-//ChamberMaster//Event Calendar 2.0//EN
METHOD:PUBLISH
X-PUBLISHED-TTL:P3D
REFRESH-INTERVAL:P3D
CALSCALE:GREGORIAN
BEGIN:VEVENT
DTSTART:20220818T233000Z
DTEND:20220819T010000Z
X-MICROSOFT-CDO-ALLDAYEVENT:FALSE
SUMMARY:Real Diamond
DESCRIPTION:Real Diamond is a professional tribute band dedicated to the faithful re-creation of the live Neil Diamond experience. Curtis Di Domizio fronts the band with a chillingly realistic interpretation backed by a 10-piece group of musicians delivering note-for-note renditions of five decades of Diamond's greatest hits.
X-ALT-DESC;FMTTYPE=text/html:Real Diamond is a professional tribute band dedicated to the faithful re-creation of the live Neil Diamond experience. Curtis Di Domizio fronts the band with a chillingly realistic interpretation backed by a 10-piece group of musicians delivering note-for-note renditions of five decades of Diamond&rsquo\;s greatest hits.&nbsp\;
LOCATION:Bethany Beach Bandstand
UID:e.2126.23841
SEQUENCE:3
DTSTAMP:20260421T190854Z
URL:http://business.thequietresorts.com/events/details/real-diamond-08-18-2022-23841
END:VEVENT

END:VCALENDAR
