BEGIN:VCALENDAR
VERSION:2.0
PRODID:-//ChamberMaster//Event Calendar 2.0//EN
METHOD:PUBLISH
X-PUBLISHED-TTL:P3D
REFRESH-INTERVAL:P3D
CALSCALE:GREGORIAN
BEGIN:VEVENT
DTSTART:20240618T150000Z
DTEND:20240618T170000Z
X-MICROSOFT-CDO-ALLDAYEVENT:FALSE
SUMMARY:Ravioli & Tortellacci Class at DiFebo's
DESCRIPTION:The Ravioli and Tortellaci class offers hands-on pasta-making instruction followed by a delicious lunch featuring the freshly prepared dishes.
X-ALT-DESC;FMTTYPE=text/html:<span style="color:rgb(0\, 0\, 0)">The Ravioli and Tortellaci class offers hands-on pasta-making instruction followed by a delicious lunch featuring the freshly prepared dishes.</span>
LOCATION:DiFebo's Bethany Restaurant\, 789 Garfield Parkway Bethany Beach\, DE 19930
UID:e.2126.30262
SEQUENCE:3
DTSTAMP:20260420T090755Z
URL:http://business.thequietresorts.com/events/details/ravioli-tortellacci-class-at-difebo-s-30262
END:VEVENT

END:VCALENDAR
