BEGIN:VCALENDAR
VERSION:2.0
PRODID:-//ChamberMaster//Event Calendar 2.0//EN
METHOD:PUBLISH
X-PUBLISHED-TTL:P3D
REFRESH-INTERVAL:P3D
CALSCALE:GREGORIAN
BEGIN:VEVENT
DTSTART:20230712T230000Z
DTEND:20230713T020000Z
X-MICROSOFT-CDO-ALLDAYEVENT:FALSE
SUMMARY:Rain — A Tribute to The Beatles
DESCRIPTION:TICKETS ARE $43\n\nRAIN   A TRIBUTE TO THE BEATLES performs songs from Abbey Road & the Rooftop Concert LIVE\, in addition to all your favorites hits. This mind-blowing performance takes you back in time with the legendary foursome delivering a note-for-note theatrical event that is the next best thing to seeing the Beatles. Experience the worlds' most iconic band and get back to where you once belonged with RAIN   A TRIBUTE TO THE BEATLES.
X-ALT-DESC;FMTTYPE=text/html:<h6>TICKETS ARE $43</h6>\n\n<p><strong>RAIN &mdash\; A TRIBUTE TO&nbsp\;THE BEATLES&nbsp\;</strong>performs songs from Abbey Road &amp\; the Rooftop Concert LIVE\, in addition to all your favorites hits. This mind-blowing performance takes you back in time with the legendary foursome delivering a note-for-note theatrical event that is the next best thing to seeing&nbsp\;the Beatles. Experience the worlds&rsquo\; most iconic band and get back to where you once belonged with&nbsp\;<strong>RAIN &mdash\; A TRIBUTE TO&nbsp\;THE BEATLES</strong>.</p>\n
LOCATION:31806 Lakeview Dr. Selbyville\, DE 19975
UID:e.2126.26095
SEQUENCE:3
DTSTAMP:20260420T230438Z
URL:http://business.thequietresorts.com/events/details/rain-a-tribute-to-the-beatles-26095
END:VEVENT

END:VCALENDAR
