BEGIN:VCALENDAR
VERSION:2.0
PRODID:-//ChamberMaster//Event Calendar 2.0//EN
METHOD:PUBLISH
X-PUBLISHED-TTL:P3D
REFRESH-INTERVAL:P3D
CALSCALE:GREGORIAN
BEGIN:VEVENT
DTSTART:20220525T140000Z
DTEND:20220525T160000Z
X-MICROSOFT-CDO-ALLDAYEVENT:FALSE
SUMMARY:Public Workshop 1: Inspection and Maintenance Program Amendments
DESCRIPTION:Join staff from the DNREC Division of Air Quality to learn about proposed amendments to the Delaware Inspection and Maintenance Program.\n \n\nDelaware operates two separate inspection and maintenance programs\, one in New Castle and Kent Counties and a more basic program in Sussex County. The proposed amendments would upgrade the Sussex County program to match that provided in the rest of the state.\n\n\n\nInspection and Maintenance Program
X-ALT-DESC;FMTTYPE=text/html:<div _ngcontent-jvh-c7="" id="readSpeak_meeting_detail_id" style="color: rgb(37\, 37\, 37)\; font-family: Roboto\, &quot\;Helvetica Neue&quot\;\, sans-serif\; font-size: 18.6667px\;">Join staff from the DNREC Division of Air Quality to learn about proposed amendments to the Delaware Inspection and Maintenance Program.</div>\n&nbsp\;\n\n<div _ngcontent-jvh-c7="" style="color: rgb(37\, 37\, 37)\; font-family: Roboto\, &quot\;Helvetica Neue&quot\;\, sans-serif\; font-size: 18.6667px\;">Delaware operates two separate inspection and maintenance programs\, one in New Castle and Kent Counties and a more basic program in Sussex County. The proposed amendments would upgrade the Sussex County program to match that provided in the rest of the state.<br />\n<br />\n<a _ngcontent-jvh-c7="" href="https://dnrec.alpha.delaware.gov/air/mobile-sources/inspection-maintenance/" style="color: rgb(23\, 54\, 101)\; font-size: 18.6667px\; font-family: Roboto\, &quot\;Helvetica Neue&quot\;\, sans-serif\;" target="_blank">Inspection and Maintenance Program</a></div>\n
LOCATION:Virtual Meeting To join by telephone\, dial-in to meeting number 2343 227 2940 at 1-408-418-9388. Use password UanbUpYE458 if needed. https://stateofdelaware.webex.com/stateofdelaware/onstage/g.php?MTID=eaa72274f9fd206f3869c483d05e0c13c
UID:e.2126.23634
SEQUENCE:3
DTSTAMP:20260422T000750Z
URL:http://business.thequietresorts.com/events/details/public-workshop-1-inspection-and-maintenance-program-amendments-23634
END:VEVENT

END:VCALENDAR
