BEGIN:VCALENDAR
VERSION:2.0
PRODID:-//ChamberMaster//Event Calendar 2.0//EN
METHOD:PUBLISH
X-PUBLISHED-TTL:P3D
REFRESH-INTERVAL:P3D
CALSCALE:GREGORIAN
BEGIN:VEVENT
DTSTART:20230318T130000Z
DTEND:20230318T140000Z
X-MICROSOFT-CDO-ALLDAYEVENT:FALSE
SUMMARY:Pruning 101- Lord's Landscaping
DESCRIPTION:Our Garden Center Maintenance Guru\, Lisa Morgenthal\, ran a large Maintenance crew her whole career in Colorado! She has moved to Delaware and wants to share her passion for trees and shrubs and how to prune them properly. She will be teaching you how to get your yard ready for Spring with a Tree and Shrub sale to follow THAT day! This is a FREE event and will have coffee and treats when you arrive!\n\n\n\nPlease register online for this FREE event! https://lords-landscaping.myshopify.com/products/pruning-101-class
X-ALT-DESC;FMTTYPE=text/html:<span style="color:rgb(5\, 5\, 5)\; font-family:system-ui\,-apple-system\,system-ui\,.sfnstext-regular\,sans-serif\; font-size:15px">Our Garden Center Maintenance Guru\, Lisa Morgenthal\, ran a large Maintenance crew her whole career in Colorado! She has moved to Delaware and wants to share her passion for trees and shrubs and how to prune them properly. She will be teaching you how to get your yard ready for Spring with a Tree and Shrub sale to follow THAT day! This is a FREE event and will have coffee and treats when you arrive!<br />\n<br />\nPlease register online for this FREE event!&nbsp\;</span>https://lords-landscaping.myshopify.com/products/pruning-101-class
LOCATION:Lord's Landscaping Greenhouse #4
UID:e.2126.25247
SEQUENCE:3
DTSTAMP:20260421T073616Z
URL:http://business.thequietresorts.com/events/details/pruning-101-lord-s-landscaping-25247
END:VEVENT

END:VCALENDAR
