BEGIN:VCALENDAR
VERSION:2.0
PRODID:-//ChamberMaster//Event Calendar 2.0//EN
METHOD:PUBLISH
X-PUBLISHED-TTL:P3D
REFRESH-INTERVAL:P3D
CALSCALE:GREGORIAN
BEGIN:VEVENT
DTSTART:20240615T230000Z
DTEND:20240616T010000Z
X-MICROSOFT-CDO-ALLDAYEVENT:FALSE
SUMMARY:Pride Film Night at Art League of OC
DESCRIPTION:Saturday\, June 15th\n\nDoors @ 6pm\n\nFilms @ 7pm\n\nJoin us for a special Film Night featuring films celebrating Pride month!\n\nOf One's Own\n\nJack Calvin Girod\n\nA young man participates in his first gay speed dating event.\n\nIntrusive\n\nJacob Greene\n\nA young man faces his own anxiety in preparing to go on a date.\n\nChasing Justice\n\nDrew Petrimoulx\n\nA law student works with a transgender inmate.\n\nTaylor: A Portrait of Becoming\n\nSean Frost\n\nBeing gender non-conforming in the Midwest.\n\nCleveland\n\nLily Daroff\n\nUncle Rob during AIDS epidemic in 1980s.\n\nFirst You\, Then I\n\nAshleigh Coffelt\n\nA woman caught in a toxic relationship struggles.\n\nDreaming of \n\nAdrian De Jesus\n\nMaya struggles to come to terms with her girlfriend Ana's death.
X-ALT-DESC;FMTTYPE=text/html:<p>Saturday\, June 15th<br />\nDoors @ 6pm<br />\nFilms @ 7pm</p>\n\n<p>Join us for a special Film Night featuring films celebrating Pride month!</p>\n\n<p><strong>Of One&rsquo\;s Own</strong><br />\nJack Calvin Girod<br />\nA young man participates in his first gay speed dating event.</p>\n\n<p><strong>Intrusive</strong><br />\nJacob Greene<br />\nA young man faces his own anxiety in preparing to go on a date.</p>\n\n<p><strong>Chasing Justice</strong><br />\nDrew Petrimoulx<br />\nA law student works with a transgender inmate.</p>\n\n<p><strong>Taylor: A Portrait of Becoming</strong><br />\nSean Frost<br />\nBeing gender non-conforming in the Midwest.</p>\n\n<p><strong>Cleveland</strong><br />\nLily Daroff<br />\nUncle Rob during AIDS epidemic in 1980s.</p>\n\n<p><strong>First You\, Then I</strong><br />\nAshleigh Coffelt<br />\nA woman caught in a toxic relationship struggles.</p>\n\n<p><strong>Dreaming of&hellip\;</strong><br />\nAdrian De Jesus<br />\nMaya struggles to come to terms with her girlfriend Ana&rsquo\;s death.</p>\n
LOCATION:The Art League of Ocean City 502 94th St. Ocean City\, MD 21842.
UID:e.2126.30088
SEQUENCE:3
DTSTAMP:20260420T092733Z
URL:http://business.thequietresorts.com/events/details/pride-film-night-at-art-league-of-oc-30088
END:VEVENT

END:VCALENDAR
