BEGIN:VCALENDAR
VERSION:2.0
PRODID:-//ChamberMaster//Event Calendar 2.0//EN
METHOD:PUBLISH
X-PUBLISHED-TTL:P3D
REFRESH-INTERVAL:P3D
CALSCALE:GREGORIAN
BEGIN:VEVENT
DTSTART:20230523T120000Z
DTEND:20230523T140000Z
X-MICROSOFT-CDO-ALLDAYEVENT:FALSE
SUMMARY:Presentation by the DE Department of Labor: Healthy Delaware Families Act
DESCRIPTION:Join the Bethany-Fenwick Area Chamber of Commerce at Salted Vines Vineyard & Winery on Tuesday\, May 23rd\, for a presentation by the Delaware Department of Labor on the Healthy Delaware Families Act.  Also known as the Paid Family and Medical Leave Insurance Program\, the public comment period on the program closes Tuesday\, May 30\, 2023.  To comment on the proposed regulations by Tuesday\, May 30\, submit comments or questions to Chris Counihan by email at PFML@Delaware.gov or by mail at Delaware Department of Labor\, 4425 N. Market St.\, Wilmington\, DE 19802.\n \n\nAll Delaware employers with at least 10 employees will be required to participate in the Paid Family and Medical Leave Insurance Program\, so it's critical to understand what's happening\, when it's happening\, and what you need to do.\n\n \n\nChris Counihan\, Director of the program\, has been visiting chambers to help ensure employers have the knowledge and tools they need\, and to ensure employers are aware of the opportunities and requirements of the program.\n\n\n\nCLICK HERE FOR THE FULL BILL DETAIL
X-ALT-DESC;FMTTYPE=text/html:<span style="font-size:12px\;"><span style="font-family:arial\;"><span style="color:#000000\;">Join the Bethany-Fenwick Area Chamber of Commerce at Salted Vines Vineyard &amp\; Winery on Tuesday\, May 23rd\, for a presentation by the Delaware Department of Labor on the Healthy Delaware Families Act.&nbsp\; Also known as the Paid Family and Medical Leave Insurance Program\, the public comment period on the program closes Tuesday\, May 30\, 2023.&nbsp\;&nbsp\;<strong>To comment on the&nbsp\;proposed regulations by Tuesday\, May 30\, submit comments or questions to Chris Counihan by email at&nbsp\;</strong></span><strong><a href="mailto:PFML@Delaware.gov" style="box-sizing: border-box\; text-decoration-line: none\; color: rgb(255\, 42\, 19)\; font-family: &quot\;Open Sans&quot\;\; font-size: 16.8px\;"><span style="color:#FF0000\;">PFML@Delaware.gov</span><span style="color:#000000\;">&nbsp\;</span></a><span style="color:#000000\;">or by mail at Delaware Department of Labor\, 4425 N. Market St.\, Wilmington\, DE 19802.</span></strong></span></span>\n<p style="color: rgb(66\, 66\, 66)\; font-size: 11pt\; font-family: Calibri\, sans-serif\; margin: 0px\;"><span style="color:#000000\;"><span style="font-size:12px\;"><span style="font-family:arial\;"><span style="border: 0px\; font-style: inherit\; font-variant: inherit\; font-weight: inherit\; font-stretch: inherit\; line-height: inherit\; font-optical-sizing: inherit\; font-kerning: inherit\; font-feature-settings: inherit\; font-variation-settings: inherit\; margin: 0px\; padding: 0px\; vertical-align: baseline\;">&nbsp\;</span></span></span></span></p>\n\n<p style="color: rgb(66\, 66\, 66)\; font-size: 11pt\; font-family: Calibri\, sans-serif\; margin: 0px\;"><span style="color:#000000\;"><span style="font-size:12px\;"><span style="font-family:arial\;"><span style="border: 0px\; font-style: inherit\; font-variant: inherit\; font-weight: inherit\; font-stretch: inherit\; line-height: inherit\; font-optical-sizing: inherit\; font-kerning: inherit\; font-feature-settings: inherit\; font-variation-settings: inherit\; margin: 0px\; padding: 0px\; vertical-align: baseline\;">All Delaware employers with at least 10 employees will be required to participate in the Paid Family and Medical Leave Insurance Program\, so it&rsquo\;s critical to&nbsp\;understand what&rsquo\;s happening\, when it&rsquo\;s happening\, and what you&nbsp\;need to do.</span></span></span></span></p>\n\n<p style="color: rgb(66\, 66\, 66)\; font-size: 11pt\; font-family: Calibri\, sans-serif\; margin: 0px\;"><span style="color:#000000\;"><span style="font-size:12px\;"><span style="font-family:arial\;"><span style="border: 0px\; font-style: inherit\; font-variant: inherit\; font-weight: inherit\; font-stretch: inherit\; line-height: inherit\; font-optical-sizing: inherit\; font-kerning: inherit\; font-feature-settings: inherit\; font-variation-settings: inherit\; margin: 0px\; padding: 0px\; vertical-align: baseline\;">&nbsp\;</span></span></span></span></p>\n\n<p style="color: rgb(66\, 66\, 66)\; font-size: 11pt\; font-family: Calibri\, sans-serif\; margin: 0px\;"><span style="color:#000000\;"><span style="font-size:12px\;"><span style="font-family:arial\;"><span style="border: 0px\; font-style: inherit\; font-variant: inherit\; font-weight: inherit\; font-stretch: inherit\; line-height: inherit\; font-optical-sizing: inherit\; font-kerning: inherit\; font-feature-settings: inherit\; font-variation-settings: inherit\; margin: 0px\; padding: 0px\; vertical-align: baseline\;">Chris Counihan\, Director of the program\, has been visiting&nbsp\;</span><span style="border: 0px\; font-style: inherit\; font-variant: inherit\; font-weight: inherit\; font-stretch: inherit\; line-height: inherit\; font-optical-sizing: inherit\; font-kerning: inherit\; font-feature-settings: inherit\; font-variation-settings: inherit\; margin: 0px\; padding: 0px\; vertical-align: baseline\;">chambers&nbsp\;<span style="border: 0px\; font-style: inherit\; font-variant: inherit\; font-weight: inherit\; font-stretch: inherit\; line-height: inherit\; font-optical-sizing: inherit\; font-kerning: inherit\; font-feature-settings: inherit\; font-variation-settings: inherit\; margin: 0px\; padding: 0px\; vertical-align: baseline\;">to help ensure employers have the knowledge and tools they need\, and to ensure employers&nbsp\;</span></span>are aware of the opportunities and requirements of the program.</span></span></span><br />\n<br />\n<a href="https://chambermaster.blob.core.windows.net/userfiles/UserFiles/chambers/2126/File/HealthyDelawareFamiliesAct-FullBill.pdf"><span style="color:#FF0000\;">CLICK HERE FOR THE FULL BILL DETAIL</span></a></p>\n
LOCATION:Salted Vines Vineyard & Winery 32512 Blackwater Rd Frankford\, DE\, 19945
UID:e.2126.25832
SEQUENCE:3
DTSTAMP:20260421T042001Z
URL:http://business.thequietresorts.com/events/details/presentation-by-the-de-department-of-labor-healthy-delaware-families-act-25832
END:VEVENT

END:VCALENDAR
