BEGIN:VCALENDAR
VERSION:2.0
PRODID:-//ChamberMaster//Event Calendar 2.0//EN
METHOD:PUBLISH
X-PUBLISHED-TTL:P3D
REFRESH-INTERVAL:P3D
CALSCALE:GREGORIAN
BEGIN:VEVENT
DTSTART:20231019T150000Z
DTEND:20231019T160000Z
X-MICROSOFT-CDO-ALLDAYEVENT:FALSE
SUMMARY:Power of Capital Workshop with SBDC
DESCRIPTION:Join the Community Navigator Program powered by the DE Small Business Development Center and J.P. Morgan Chase for a webinar on the Power of Capital. Learn more about the use of borrowing and how borrowing effectively can help your business scale.\n\nTopics covered include:\n\n\n	Think strategically about cash flow\n	Does your business need to borrow?\n	Why are you a good investment?\n	What financial data is important?\n	What are your credit options?\n	SBA loan programs\n	Begin building your own empire\n\nRegister for this session HERE.
X-ALT-DESC;FMTTYPE=text/html:<p style="color: rgb(0\, 0\, 0)\; font-family: Arial\, sans-serif\; font-size: 16px\;">Join the Community Navigator Program powered by the DE Small Business Development Center and J.P. Morgan Chase for a webinar on the&nbsp\;<strong>Power of Capital.</strong>&nbsp\;Learn more about the use of borrowing and how borrowing effectively can help your business scale.</p>\n\n<p style="color: rgb(0\, 0\, 0)\; font-family: Arial\, sans-serif\; font-size: 16px\;">Topics covered include:</p>\n\n<ul style="color: rgb(0\, 0\, 0)\; font-family: Arial\, sans-serif\; font-size: 16px\;">\n	<li>Think strategically about cash flow</li>\n	<li>Does your business need to borrow?</li>\n	<li>Why are you a good investment?</li>\n	<li>What financial data is important?</li>\n	<li>What are your credit options?</li>\n	<li>SBA loan programs</li>\n	<li>Begin building your own empire</li>\n</ul>\n<span style="font-family:arial\;"><span style="font-size:18px\;"><span style="color:black\;">Register for this session&nbsp\;</span><strong><span style="color:black\;"><a href="https://portal.navigatede.org/workshop.aspx?ekey=1430065" title="https://portal.navigatede.org/workshop.aspx?ekey=1430065">HERE</a></span></strong><span style="color:black\;">.</span></span></span>
LOCATION:Online Register for this session HERE.
UID:e.2126.26659
SEQUENCE:3
DTSTAMP:20260420T182931Z
URL:http://business.thequietresorts.com/events/details/power-of-capital-workshop-with-sbdc-26659
END:VEVENT

END:VCALENDAR
