BEGIN:VCALENDAR
VERSION:2.0
PRODID:-//ChamberMaster//Event Calendar 2.0//EN
METHOD:PUBLISH
X-PUBLISHED-TTL:P3D
REFRESH-INTERVAL:P3D
CALSCALE:GREGORIAN
BEGIN:VEVENT
DTSTART;VALUE=DATE:20210212
DTEND;VALUE=DATE:20210216
TRANSP:TRANSPARENT
X-MICROSOFT-CDO-ALLDAYEVENT:TRUE
SUMMARY:Pottery Place Valentine and President's Day Weekend Sale
DESCRIPTION:Pottery Place - Valentine & President's Day Weekend Sale!  \n\nWhite Sale - 10% Off - all pillows/rugs/blankets/throws!\n\n\n\nMention you saw this and get a free cup of coffee while you shop from Perks Cafe.
X-ALT-DESC;FMTTYPE=text/html:Pottery Place - Valentine &amp\; President&#39\;s Day Weekend Sale!&nbsp\;&nbsp\;<br />\nWhite Sale - 10% Off - all pillows/rugs/blankets/throws!<br />\n<br />\nMention you saw this and get a free cup of coffee while you shop from Perks Cafe.&nbsp\;
LOCATION:1500 Coastal Highway\, Fenwick Island\, DE
UID:e.2126.21879
SEQUENCE:3
DTSTAMP:20260425T014904Z
URL:http://business.thequietresorts.com/events/details/pottery-place-valentine-and-president-s-day-weekend-sale-21879
END:VEVENT

END:VCALENDAR
