BEGIN:VCALENDAR
VERSION:2.0
PRODID:-//ChamberMaster//Event Calendar 2.0//EN
METHOD:PUBLISH
X-PUBLISHED-TTL:P3D
REFRESH-INTERVAL:P3D
CALSCALE:GREGORIAN
BEGIN:VEVENT
DTSTART:20211116T110000Z
DTEND:20211116T150000Z
X-MICROSOFT-CDO-ALLDAYEVENT:FALSE
SUMMARY:Pottery Place Fundraiser to Support First Responders
DESCRIPTION:Join us for the 3rd Annual Pottery Place Fundraiser to support our first responders. Ocean 98.1 will host a live Broadcast benefitting local First Responders!
X-ALT-DESC;FMTTYPE=text/html:<span style="font-size:14px\;"><span style="font-family:arial\;">Join us for the 3rd Annual Pottery Place Fundraiser to support our first responders. Ocean 98.1 will host a live Broadcast benefitting local First Responders!&nbsp\;&nbsp\;</span></span>
LOCATION:
UID:e.2126.23093
SEQUENCE:3
DTSTAMP:20260424T102356Z
URL:http://business.thequietresorts.com/events/details/pottery-place-fundraiser-to-support-first-responders-11-16-2021-23093
END:VEVENT

END:VCALENDAR
