BEGIN:VCALENDAR
VERSION:2.0
PRODID:-//ChamberMaster//Event Calendar 2.0//EN
METHOD:PUBLISH
X-PUBLISHED-TTL:P3D
REFRESH-INTERVAL:P3D
CALSCALE:GREGORIAN
BEGIN:VEVENT
DTSTART;VALUE=DATE:20221007
DTEND;VALUE=DATE:20221016
TRANSP:TRANSPARENT
X-MICROSOFT-CDO-ALLDAYEVENT:TRUE
SUMMARY:Pottery Place Customer Appreciation Days
DESCRIPTION:Customer Appreciation Days at The Pottery Place\n\n20% OFF EVERYTHING (some exceptions apply)\n\n\n\nStop in for Unique Home & Garden Accents\, Accessoires & Gifts\n\nShop & Sip at Perks Coffee Bar inside!\n\n\n\nFall & Entire Room of Christmas Decor awaiting you!
X-ALT-DESC;FMTTYPE=text/html:<div style="text-align: center\;"><span style="font-size:14px\;"><span style="font-family:arial\;"><strong>Customer Appreciation Days at The Pottery Place<br />\n20% OFF&nbsp\;EVERYTHING (some exceptions apply)</strong><br />\n<br />\nStop in for Unique Home &amp\; Garden Accents\, Accessoires &amp\; Gifts<br />\nShop &amp\; Sip at Perks Coffee Bar inside!<br />\n<br />\n<strong>Fall &amp\; Entire Room of Christmas Decor awaiting you!</strong></span></span></div>\n
LOCATION:Pottery Place 1500 Coastal Hwy Fenwick Island\, DE
UID:e.2126.24476
SEQUENCE:3
DTSTAMP:20260421T173024Z
URL:http://business.thequietresorts.com/events/details/pottery-place-customer-appreciation-days-24476
END:VEVENT

END:VCALENDAR
