BEGIN:VCALENDAR
VERSION:2.0
PRODID:-//ChamberMaster//Event Calendar 2.0//EN
METHOD:PUBLISH
X-PUBLISHED-TTL:P3D
REFRESH-INTERVAL:P3D
CALSCALE:GREGORIAN
BEGIN:VEVENT
DTSTART:20231201T200000Z
DTEND:20231201T213000Z
X-MICROSOFT-CDO-ALLDAYEVENT:FALSE
SUMMARY:POSTPONED: YourSpace Storage at Bayside Grand Opening & Ribbon Cutting
DESCRIPTION:THIS EVENT HAS BEEN POSTPONED UNTIL JANUARY 2024!\n\n\n\nJoin the Bethany-Fenwick Area Chamber of Commerce on Friday\, December 1st\, at 3:00PM to celebrate the grand opening of YourSpace Storage at Bayside with a ribbon cutting!  YourSpace Storage offers a newly redesigned storage facility with climate-controlled units\, Uhaul moving truck rentals\, convenient drive-up storage units\, 24-7-365 access at no additional charge\, and more.\n\n\n\nThe event starts at 3:00PM with the ribbon to be cut at 4:00PM!  Refreshments will be provided.
X-ALT-DESC;FMTTYPE=text/html:<span style="color:#FF0000\;"><strong>THIS EVENT HAS BEEN POSTPONED UNTIL JANUARY 2024!</strong></span><br />\n<br />\nJoin the Bethany-Fenwick Area Chamber of Commerce on Friday\, December 1st\, at 3:00PM to celebrate the grand opening of YourSpace Storage at Bayside with a ribbon cutting!&nbsp\; YourSpace Storage offers a newly redesigned storage facility with climate-controlled units\, Uhaul moving truck rentals\, convenient drive-up storage units\, 24-7-365 access at no additional charge\, and more.<br />\n<br />\nThe event starts at 3:00PM with the ribbon to be cut at 4:00PM!&nbsp\; Refreshments will be provided.
LOCATION:YourSpace Storage at Bayside 36097 Zion Church Rd.\, Rte. 20 Frankford\, DE 19945
UID:e.2126.27148
SEQUENCE:3
DTSTAMP:20260420T165214Z
URL:http://business.thequietresorts.com/events/details/postponed-yourspace-storage-at-bayside-grand-opening-ribbon-cutting-27148
END:VEVENT

END:VCALENDAR
