BEGIN:VCALENDAR
VERSION:2.0
PRODID:-//ChamberMaster//Event Calendar 2.0//EN
METHOD:PUBLISH
X-PUBLISHED-TTL:P3D
REFRESH-INTERVAL:P3D
CALSCALE:GREGORIAN
BEGIN:VEVENT
DTSTART:20230923T140000Z
DTEND:20230923T190000Z
X-MICROSOFT-CDO-ALLDAYEVENT:FALSE
SUMMARY:Postponed Delaware Deaf Fest 2023
DESCRIPTION:The Delaware Deaf Senior Citizens Organization will be hosting the Delaware Deaf Fest 2023 at The Hope Center at Mariner's Bethel United Methodist Church on September 23\, 2023.\n\n\n\nDelaware Deaf Senior Citizens (DDSC) is a 501(c)3 non-profit organization that represents the growing number of Deaf citizens in the Delaware area.  Their mission is to enhance the well-being of Deaf and hard of hearing senior citizens\, improve communication access\, and increase awareness about the Deaf community and American Sign Language.\n\n\n\nDelaware Deaf Fest 2023 will be a day-long festival to celebrate Deaf culture and American Sign Language (ASL).  Proceeds from the event will support Deaf and hard of hearing students in Delaware schools.  There will be food trucks\, activities for families and children\, Deaf culture videos and performances\, American Sign Language classes\, raffle baskets\, a bake sale\, and presentations.  There will be vendors\, and Deaf-owned business vendors will be highlighted.  It will be a day to raise awareness about the Deaf community and interact with Deaf people and Deaf businesses and organizations.  The festival coincides with the International Week of Deaf People\, which is celebrated worldwide.
X-ALT-DESC;FMTTYPE=text/html:The Delaware Deaf Senior Citizens Organization will be hosting the Delaware Deaf Fest 2023 at The Hope Center at Mariner&#39\;s Bethel United Methodist Church on September 23\, 2023.<br />\n<br />\nDelaware Deaf Senior Citizens (DDSC) is a 501(c)3 non-profit organization that represents the growing number of Deaf citizens in the Delaware area.&nbsp\; Their mission is to enhance the well-being of Deaf and hard of hearing senior citizens\, improve communication access\, and increase awareness about the Deaf community and American Sign Language.<br />\n<br />\nDelaware Deaf Fest 2023 will be a day-long festival to celebrate Deaf culture and American Sign Language (ASL).&nbsp\; Proceeds from the event will support Deaf and hard of hearing students in Delaware schools.&nbsp\; There will be food trucks\, activities for families and children\, Deaf culture videos and performances\, American Sign Language classes\, raffle baskets\, a bake sale\, and presentations.&nbsp\; There will be vendors\, and Deaf-owned business vendors will be highlighted.&nbsp\; It will be a day to raise awareness about the Deaf community and interact with Deaf people and Deaf businesses and organizations.&nbsp\; The festival coincides with the International Week of Deaf People\, which is celebrated worldwide.
LOCATION:The Hope Center at Mariner's Bethel United Methodist Church 81 Central Avenue Ocean View\, DE\, 19970
UID:e.2126.26393
SEQUENCE:3
DTSTAMP:20260420T195831Z
URL:http://business.thequietresorts.com/events/details/postponed-delaware-deaf-fest-2023-26393
END:VEVENT

END:VCALENDAR
