BEGIN:VCALENDAR
VERSION:2.0
PRODID:-//ChamberMaster//Event Calendar 2.0//EN
METHOD:PUBLISH
X-PUBLISHED-TTL:P3D
REFRESH-INTERVAL:P3D
CALSCALE:GREGORIAN
BEGIN:VEVENT
DTSTART:20230629T203000Z
DTEND:20230629T223000Z
X-MICROSOFT-CDO-ALLDAYEVENT:FALSE
SUMMARY:POSTPONED: Business After Hours June 2023: Summer Social at Dockside Marina Bar & Grill
DESCRIPTION:Due to inclement weather\, this event has been postponed from June 22nd to June 29th!\n\n\n\nJoin us on Thursday\, June 29th\, at Dockside Marina Bar & Grill for the June Business After Hours Summer Social event.  The Summer Social is a fantastic way to promote your business through networking with fellow Chamber members.  There will be live music and light food provided by Dockside\, and this is an OUTDOOR event!\n\n\n\nAs a courtesy to our host\, RSVP is highly encouraged.\n\n\n\nStay Afterwards for Dinner!\n\n\n\nInterested in hosting a networking event\, or learning how you can become a member spotlight at future Business After Hours? \n\n\n\nContact membership@thequietresorts.com or 302-539-2100.
X-ALT-DESC;FMTTYPE=text/html:<span style="font-family: arial\, sans-serif\; font-size: 10.5pt\;"><span style="color:#FF0000\;"><strong>Due to inclement weather\, this event has been postponed from June 22nd to June 29th!</strong></span><br />\n<br />\nJoin us on <span style="color:#FF0000\;"><strong>Thursday\, June 29th</strong></span>\, at <b>Dockside Marina Bar &amp\; Grill</b>&nbsp\;for the June Business After Hours Summer Social event.&nbsp\; The Summer Social is a fantastic way to promote your business through networking with fellow Chamber members.&nbsp\; There will be live music and light food provided by Dockside\, and this is an OUTDOOR event!<br />\n<br />\nAs a courtesy to our host\, RSVP is highly encouraged.<br />\n<br />\n<strong>Stay Afterwards for Dinner!</strong></span><br />\n<br />\n<strong><span style="font-family: arial\, sans-serif\;"><span style="font-size: 10.5pt\;">Interested in hosting a networking event\, or learning how you can become a member spotlight at future Business After Hours?&nbsp\;</span></span></strong><br />\n<br />\n<span style="font-family: arial\, sans-serif\;"><span style="font-size: 10.5pt\;">Contact membership@thequietresorts.com or 302-539-2100.</span></span>
LOCATION:Dockside Marina Bar & Grill 39415 Inlet Rd. Rehoboth Beach\, DE\, 19971
UID:e.2126.25871
SEQUENCE:3
DTSTAMP:20260421T005132Z
URL:http://business.thequietresorts.com/events/details/postponed-business-after-hours-june-2023-summer-social-at-dockside-marina-bar-grill-25871
END:VEVENT

END:VCALENDAR
