BEGIN:VCALENDAR
VERSION:2.0
PRODID:-//ChamberMaster//Event Calendar 2.0//EN
METHOD:PUBLISH
X-PUBLISHED-TTL:P3D
REFRESH-INTERVAL:P3D
CALSCALE:GREGORIAN
BEGIN:VEVENT
DTSTART;VALUE=DATE:20230528
DTEND;VALUE=DATE:20230529
TRANSP:TRANSPARENT
X-MICROSOFT-CDO-ALLDAYEVENT:TRUE
SUMMARY:Poseidon Festival - Sunday Events
DESCRIPTION:Join Bethany Beach as we celebrate our annual Poseidon Festival. The event will run all weekend long with varying activities. The schedule for Sunday\, May 28th is as follows:\n\nLive Mermaid Tank\n\nSunday\, May 28\n\n1:00   5:00 pm \n\nSee a live mermaid perform various underwater tricks such as bubble rings\, heart kisses\, and bubble columns.\n\n\nGlam Shell Photos and Story Times\n\nSunday\, May 28\n\n1:00 - 4:00 pm\n\nGather around the glam shell for photos and story times: Mermaid Tasha's Mission and Glitter is Not the Winner.  \n\n\nMarine Science Camp\n\nSunday\, May 28\n\n1:00   4:00 pm                   \n\nGain an appreciation for our marine life and environment in a fun open-classroom setting by the sea.  This award-winning program will explore sharks\, sunfish\, and sea turtles through interactive hands-on activities. Also\, find out what's inside the Mystery Box.\n\n\nDiscover Bethany Beach\n\nSunday\, May 28\n\n4:15 - 5:00 pm\n\nMeet Mermaid Tasha right on the shores of Bethany Beach and discover more about the resort's marine life including the namesake fish of Tasha's tail\, the marlin!\n\n\nEmergency Meet & Greet\n\nSunday May 28\n\n5:30   7:00 pm\n\nMeet and greet our Town lifeguards\, police\, and fire personnel to learn how to prepare for a potential coastal emergency.  See the Sussex County Command Post and water rescue vehicles up close.\n\n\nU.S. Navy Cruisers\n\nSunday\, May 28\n\n7:30 pm\n\nThe group takes its name from the Navy's versatile\, flexible\, multi-missioned ship   the Cruiser   and the band lives up to its namesake by having the capabilities of playing genres of music ranging from jazz & standards\, rhythm & blues\, classic rock\, adult contemporary\, pop\, and original material.
X-ALT-DESC;FMTTYPE=text/html:<span style="font-size:14px\;"><span style="font-family:arial\;">Join Bethany Beach as we celebrate our annual Poseidon Festival. The event will run all weekend long with varying activities. The schedule for Sunday\, May 28th is as follows:</span></span>\n<div>\n<p><span style="font-size:14px\;"><span style="font-family:arial\;"><strong>Live Mermaid Tank</strong></span></span></p>\n\n<p><span style="font-size:14px\;"><span style="font-family:arial\;">Sunday\, May 28</span></span></p>\n\n<p><span style="font-size:14px\;"><span style="font-family:arial\;">1:00 &ndash\; 5:00 pm&nbsp\;</span></span></p>\n\n<p><span style="font-size:14px\;"><span style="font-family:arial\;">See a live mermaid perform various underwater tricks such as bubble rings\, heart kisses\, and bubble columns.</span></span></p>\n\n<div>\n<p><span style="font-size:14px\;"><span style="font-family:arial\;"><strong>Glam Shell Photos and Story Times</strong></span></span></p>\n\n<p><span style="font-size:14px\;"><span style="font-family:arial\;">Sunday\, May 28</span></span></p>\n\n<p><span style="font-size:14px\;"><span style="font-family:arial\;">1:00 - 4:00 pm</span></span></p>\n\n<p><span style="font-size:14px\;"><span style="font-family:arial\;">Gather around the glam shell for photos and story times: <em><strong>Mermaid Tasha&#39\;s Mission</strong></em> and <strong><em>Glitter is Not the Winner</em></strong>. &nbsp\;</span></span></p>\n\n<div>\n<p><span style="font-size:14px\;"><span style="font-family:arial\;"><strong>Marine Science Camp</strong></span></span></p>\n\n<p><span style="font-size:14px\;"><span style="font-family:arial\;">Sunday\, May 28</span></span></p>\n\n<p><span style="font-size:14px\;"><span style="font-family:arial\;">1:00 &ndash\; 4:00 pm &nbsp\; &nbsp\; &nbsp\; &nbsp\; &nbsp\; &nbsp\; &nbsp\; &nbsp\; &nbsp\;&nbsp\;</span></span></p>\n\n<p><span style="font-size:14px\;"><span style="font-family:arial\;">Gain an appreciation for our marine life and environment in a fun open-classroom setting by the sea. &nbsp\;This award-winning program will explore sharks\, sunfish\, and sea turtles through interactive hands-on activities. Also\, find out what&rsquo\;s inside the Mystery Box.</span></span></p>\n\n<div>\n<p><span style="font-size:14px\;"><span style="font-family:arial\;"><strong>Discover Bethany Beach</strong></span></span></p>\n\n<p><span style="font-size:14px\;"><span style="font-family:arial\;">Sunday\, May 28</span></span></p>\n\n<p><span style="font-size:14px\;"><span style="font-family:arial\;">4:15 - 5:00 pm</span></span></p>\n\n<p><span style="font-size:14px\;"><span style="font-family:arial\;">Meet Mermaid Tasha right on the shores of Bethany Beach and discover more about the resort&rsquo\;s marine life including the namesake fish of Tasha&rsquo\;s tail\, the marlin!</span></span></p>\n\n<div>\n<p><span style="font-size:14px\;"><span style="font-family:arial\;"><strong>Emergency Meet &amp\; Greet</strong></span></span></p>\n\n<p><span style="font-size:14px\;"><span style="font-family:arial\;">Sunday May 28</span></span></p>\n\n<p><span style="font-size:14px\;"><span style="font-family:arial\;">5:30 &ndash\; 7:00 pm</span></span></p>\n\n<p><span style="font-size:14px\;"><span style="font-family:arial\;">Meet and greet our Town lifeguards\, police\, and fire personnel to learn how to prepare for a potential coastal emergency. &nbsp\;See the Sussex County Command Post and water rescue vehicles up close.</span></span></p>\n\n<div>\n<p><span style="font-size:14px\;"><span style="font-family:arial\;"><strong>U.S. Navy Cruisers</strong></span></span></p>\n\n<p><span style="font-size:14px\;"><span style="font-family:arial\;">Sunday\, May 28</span></span></p>\n\n<p><span style="font-size:14px\;"><span style="font-family:arial\;">7:30 pm</span></span></p>\n\n<p><span style="font-size:14px\;"><span style="font-family:arial\;">The group takes its name from the Navy&rsquo\;s versatile\, flexible\, multi-missioned ship &ndash\; the Cruiser &ndash\; and the band lives up to its namesake by having the capabilities of playing genres of music ranging from jazz &amp\; standards\, rhythm &amp\; blues\, classic rock\, adult contemporary\, pop\, and original material.</span></span></p>\n</div>\n\n<p>&nbsp\;</p>\n</div>\n</div>\n</div>\n</div>\n</div>\n
LOCATION:Bethany Beach Bandstand Garfield Parkway & Boardwalk\, Bethany Beach
UID:e.2126.25568
SEQUENCE:3
DTSTAMP:20260421T024041Z
URL:http://business.thequietresorts.com/events/details/poseidon-festival-sunday-events-25568
END:VEVENT

END:VCALENDAR
