BEGIN:VCALENDAR
VERSION:2.0
PRODID:-//ChamberMaster//Event Calendar 2.0//EN
METHOD:PUBLISH
X-PUBLISHED-TTL:P3D
REFRESH-INTERVAL:P3D
CALSCALE:GREGORIAN
BEGIN:VEVENT
DTSTART;VALUE=DATE:20230527
DTEND;VALUE=DATE:20230528
TRANSP:TRANSPARENT
X-MICROSOFT-CDO-ALLDAYEVENT:TRUE
SUMMARY:Poseidon Festival - Saturday Events
DESCRIPTION:Join Bethany Beach as we celebrate our annual Poseidon Festival. The event will run all weekend long with varying activities. The schedule for Saturday\, May 27th is as follows:\n\n\n\nPirates on the Plaza\n1:00   5:00 pm\n\nCaptain Jack and his crew will descend upon the Bandstand Plaza and lure you into the Age of Piracy when the seas were full of adventure and rules were more like guidelines. See live sword demonstrations and learn about the ways of pirate life in exciting swashbuckling shows throughout the day. \n Costume Parade and Contest \n\n1:45 - 2:30 pm\n\nCome dressed as a pirate or mermaid for your chance to win prizes in our costume contest.  Lineup begins on the boardwalk in front of the Bethany Beach Ocean Suites and parades down to the Bandstand stage.    \n 3 Hour Tour\n\n5:00 pm\n\nDan Steely\, Tina Colada\, Boz Loggins\, Boblo Cruise and Isaac Your Bartender will be setting sail to play all your favorite smooth yacht rock classics! This band is comprised of talented members from Three Sheets\, BFF\, Kategory 5\, Echoes\, What The Funk\, Montana Wildaxe\, Lima Bean Riot\, and Philly Brass & Electric. All hands on deck for this party!\n\n\n\nAloha Summer Luau Show \n\n7:30 pm\n\nSay Aloha to summer with an enchanting journey through the Polynesian islands complete with pulsating drums\, exotic dancers and a fire knife performance.  See a revue of dances from Hawaii\, Tahiti\, Samoa\, and New Zealand.  You'll even learn how to dance the hula
X-ALT-DESC;FMTTYPE=text/html:<span style="font-size:14px\;"><span style="font-family:arial\;">Join Bethany Beach as we celebrate our annual Poseidon Festival. The event will run all weekend long with varying activities. The schedule for Saturday\, May 27th is as follows:<br />\n<br />\n<strong>Pirates on the Plaza</strong></span></span>\n<p><span style="font-size:14px\;"><span style="font-family:arial\;">1:00 &ndash\; 5:00 pm</span></span></p>\n\n<p><span style="font-size:14px\;"><span style="font-family:arial\;">Captain Jack and his crew will descend upon the Bandstand Plaza and lure you into the Age of Piracy when the seas were full of adventure and rules were more like guidelines. See live sword demonstrations and learn about the ways of pirate life in exciting swashbuckling shows throughout the day.&nbsp\;</span></span></p>\n<span style="font-size:14px\;"><span style="font-family:arial\;"> <strong>Costume Parade and Contest </strong></span></span>\n\n<p><span style="font-size:14px\;"><span style="font-family:arial\;">1:45 - 2:30 pm</span></span></p>\n\n<p><span style="font-size:14px\;"><span style="font-family:arial\;">Come dressed as a pirate or mermaid for your chance to win prizes in our costume contest. &nbsp\;Lineup begins on the boardwalk in front of the Bethany Beach Ocean Suites and parades down to the Bandstand stage. &nbsp\; &nbsp\;</span></span></p>\n<span style="font-size:14px\;"><span style="font-family:arial\;"> <strong>3 Hour Tour</strong></span></span>\n\n<p><span style="font-size:14px\;"><span style="font-family:arial\;">5:00 pm</span></span></p>\n\n<p><span style="font-size:14px\;"><span style="font-family:arial\;">Dan Steely\, Tina Colada\, Boz Loggins\, Boblo Cruise and Isaac Your Bartender will be setting sail to play all your favorite smooth yacht rock classics! This band is comprised of talented members from Three Sheets\, BFF\, Kategory 5\, Echoes\, What The Funk\, Montana Wildaxe\, Lima Bean Riot\, and Philly Brass &amp\; Electric. All hands on deck for this party!<br />\n<br />\n<strong>Aloha Summer Luau Show </strong></span></span></p>\n\n<p><span style="font-size:14px\;"><span style="font-family:arial\;">7:30 pm</span></span></p>\n\n<p><span style="font-size:14px\;"><span style="font-family:arial\;">Say Aloha to summer with an enchanting journey through the Polynesian islands complete with pulsating drums\, exotic dancers and a fire knife performance. &nbsp\;See a revue of dances from Hawaii\, Tahiti\, Samoa\, and New Zealand. &nbsp\;You&rsquo\;ll even learn how to dance the hula</span></span></p>\n
LOCATION:Bethany Beach Bandstand Garfield Parkway & Boardwalk\, Bethany Beach
UID:e.2126.25567
SEQUENCE:3
DTSTAMP:20260421T040843Z
URL:http://business.thequietresorts.com/events/details/poseidon-festival-saturday-events-25567
END:VEVENT

END:VCALENDAR
