BEGIN:VCALENDAR
VERSION:2.0
PRODID:-//ChamberMaster//Event Calendar 2.0//EN
METHOD:PUBLISH
X-PUBLISHED-TTL:P3D
REFRESH-INTERVAL:P3D
CALSCALE:GREGORIAN
BEGIN:VEVENT
DTSTART:20230526T233000Z
DTEND:20230527T020000Z
X-MICROSOFT-CDO-ALLDAYEVENT:FALSE
SUMMARY:Poseidon Festival - Parrotbeach
DESCRIPTION:Join Bethany Beach as we celebrate our annual Poseidon Festival. The event will run all weekend long with varying activities. On Friday evening at 7:30\, Parrotbeach will take the stage.
X-ALT-DESC;FMTTYPE=text/html:<span style="font-size:14px\;"><span style="font-family:arial\;">Join Bethany Beach as we celebrate our annual Poseidon Festival. The event will run all weekend long with varying activities. On Friday evening at 7:30\, Parrotbeach will take the stage.</span></span>
LOCATION:Bethany Beach Bandstand Garfield Parkway & Boardwalk\, Bethany Beach
UID:e.2126.25566
SEQUENCE:3
DTSTAMP:20260421T040534Z
URL:http://business.thequietresorts.com/events/details/poseidon-festival-parrotbeach-25566
END:VEVENT

END:VCALENDAR
