BEGIN:VCALENDAR
VERSION:2.0
PRODID:-//ChamberMaster//Event Calendar 2.0//EN
METHOD:PUBLISH
X-PUBLISHED-TTL:P3D
REFRESH-INTERVAL:P3D
CALSCALE:GREGORIAN
BEGIN:VEVENT
DTSTART:20240308T153000Z
DTEND:20240308T163000Z
X-MICROSOFT-CDO-ALLDAYEVENT:FALSE
SUMMARY:Pilates at Georgetown Public Library
DESCRIPTION:Join us for a free Beginner / Intermediate class for stretching and strengthening! Please wear clothing that allows you to move freely\, and bring an exercise mat if you have one. If not\, one will be provided for you to use while supplies last. \n\nThis class is for adults only (18 years or older).
X-ALT-DESC;FMTTYPE=text/html:<p>Join us for a free Beginner / Intermediate class for stretching and strengthening! Please wear clothing that allows you to move freely\, and bring an exercise mat if you have one. If not\, one will be provided for you to use while supplies last.&nbsp\;</p>\n\n<p><strong>This class is for adults only (18 years or older).</strong></p>\n
LOCATION:Georgetown Public Library 123 West Pine St. Georgetown\, DE 19947
UID:e.2126.28284
SEQUENCE:3
DTSTAMP:20260420T073335Z
URL:http://business.thequietresorts.com/events/details/pilates-03-08-2024-28284
END:VEVENT

END:VCALENDAR
