BEGIN:VCALENDAR
VERSION:2.0
PRODID:-//ChamberMaster//Event Calendar 2.0//EN
METHOD:PUBLISH
X-PUBLISHED-TTL:P3D
REFRESH-INTERVAL:P3D
CALSCALE:GREGORIAN
BEGIN:VEVENT
DTSTART:20230523T200000Z
DTEND:20230523T213000Z
X-MICROSOFT-CDO-ALLDAYEVENT:FALSE
SUMMARY:Phoenix Physical Therapy Selbyville Location Grand Opening & Ribbon Cutting
DESCRIPTION:Join the Chamber staff in celebrating the Grand Opening of Phoenix Physical Therapy's Selbyville location with a ribbon cutting on Tuesday\, May 23\, 2023!  The celebration begins at 4:00pm\, with the ribbon to be cut at 5:00pm.  Refreshments will be provided!
X-ALT-DESC;FMTTYPE=text/html:<span style="color: rgb(51\, 51\, 51)\; font-family: sans-serif\, Arial\, Verdana\, &quot\;Trebuchet MS&quot\;\; font-size: 13px\; background-color: rgb(255\, 255\, 255)\;">Join the Chamber staff in celebrating the Grand Opening of Phoenix Physical Therapy&#39\;s Selbyville location with a ribbon cutting on Tuesday\, May 23\, 2023!&nbsp\; The celebration begins at 4:00pm\, with the ribbon to be cut at 5:00pm.&nbsp\; Refreshments will be provided!</span><br />\n&nbsp\;
LOCATION:Phoenix Physical Therapy 14 W Church Street Selbyville DE 19975
UID:e.2126.25554
SEQUENCE:3
DTSTAMP:20260421T041024Z
URL:http://business.thequietresorts.com/events/details/phoenix-physical-therapy-selbyville-location-grand-opening-ribbon-cutting-25554
END:VEVENT

END:VCALENDAR
