BEGIN:VCALENDAR
VERSION:2.0
PRODID:-//ChamberMaster//Event Calendar 2.0//EN
METHOD:PUBLISH
X-PUBLISHED-TTL:P3D
REFRESH-INTERVAL:P3D
CALSCALE:GREGORIAN
BEGIN:VEVENT
DTSTART:20200725T140000Z
DTEND:20200725T150000Z
X-MICROSOFT-CDO-ALLDAYEVENT:FALSE
SUMMARY:"Peter Pan" presented by Rehoboth Summer Children's Theatre
DESCRIPTION:Peter and Tinkerbell lead Wendy\, Michael and John off to Neverland for adventures with Captain Hook and the Pirates\, Tiger Lily and The Lost Boys. James Barrie's classic story of youthful joy features two actors who bring all the familiar characters to life. There is great fun for all ages in this spirited\, imaginative production. The script is one of many two-actor versions of classic stories created by husband-and-wife team Elise and Steve Seyfried\, co-founders of the Rehoboth Summer Children's Theatre.
X-ALT-DESC;FMTTYPE=text/html:<span style="font-size: 14px\;"><span style="font-family: arial\;">Peter and Tinkerbell lead Wendy\, Michael and John off to Neverland for adventures with Captain Hook and the Pirates\, Tiger Lily and The Lost Boys. James Barrie&#39\;s classic story of youthful joy features two actors who bring all the familiar characters to life. There is great fun for all ages in this spirited\, imaginative production. The script is one of many two-actor versions of classic stories created by husband-and-wife team Elise and Steve Seyfried\, co-founders of the Rehoboth Summer Children&rsquo\;s Theatre.</span></span>
LOCATION:The Freeman Stage 31750 Lake View Drive Selbyville\, DE 19975
UID:e.2126.21699
SEQUENCE:3
DTSTAMP:20260425T163226Z
URL:http://business.thequietresorts.com/events/details/peter-pan-presented-by-rehoboth-summer-children-s-theatre-21699
END:VEVENT

END:VCALENDAR
