BEGIN:VCALENDAR
VERSION:2.0
PRODID:-//ChamberMaster//Event Calendar 2.0//EN
METHOD:PUBLISH
X-PUBLISHED-TTL:P3D
REFRESH-INTERVAL:P3D
CALSCALE:GREGORIAN
BEGIN:VEVENT
DTSTART:20240513T213000Z
DTEND:20240513T223000Z
X-MICROSOFT-CDO-ALLDAYEVENT:FALSE
SUMMARY:Personal Finance Seminar at the Georgetown Public Library
DESCRIPTION:Join Mark May\, a local financial advisor\, at the Georgetown Public Library on May 13\, 2024\, for a free personal finance presentation! Touching on topics like budgeting\, investments\, debt reduction\, and many more\, this is the perfect way to restart your financial life in the new year. Whether you are saving for a specific goal or looking to make the most of your money\, this is a great first step in thinking about your money goals. The presentation will be held at 5:30 PM on May 13\, 2024 and is free to attend! See the Georgetown Public Library calendar for more details.
X-ALT-DESC;FMTTYPE=text/html:Join Mark May\, a local financial advisor\, at the Georgetown Public Library on May 13\, 2024\, for a free personal finance presentation! Touching on topics like budgeting\, investments\, debt reduction\, and many more\, this is the perfect way to restart your financial life in the new year. Whether you are saving for a specific goal or looking to make the most of your money\, this is a great first step in thinking about your money goals. The presentation will be held at 5:30 PM on May 13\, 2024 and is free to attend! See the Georgetown Public Library calendar for more details.
LOCATION:Georgetown Public Library 123 West Pine St. Georgetown\, DE 19947
UID:e.2126.28686
SEQUENCE:3
DTSTAMP:20260420T042105Z
URL:http://business.thequietresorts.com/events/details/personal-finance-seminar-at-the-georgetown-public-library-28686
END:VEVENT

END:VCALENDAR
