BEGIN:VCALENDAR
VERSION:2.0
PRODID:-//ChamberMaster//Event Calendar 2.0//EN
METHOD:PUBLISH
X-PUBLISHED-TTL:P3D
REFRESH-INTERVAL:P3D
CALSCALE:GREGORIAN
BEGIN:VEVENT
DTSTART:20231124T170000Z
DTEND:20231124T200000Z
X-MICROSOFT-CDO-ALLDAYEVENT:FALSE
SUMMARY:Pernod Ricard Brands Bottle Engraving Holiday Event at Banks Wine and Spirits
DESCRIPTION:Perfect Holiday Gift Idea: Pernod Ricard Brands offer a large variety of Items for just about anyone. Ranging from Wines to Whiskeys\, this collection is for everyone. Here is a list of Products we carry in our store right now: Aberlour\, Absolut\, Avion\, Ballantine's\, Beefeater\, Brancott Estates\, Campo Viejo\, Chivas Regal\, Codigo\, G.H. Mumm\, Glenlivet\, Jacobs Creek\, Jameson\, Jefferson's Reserve\, Kahlua\, Kenwood\, Lillet\, Malfy Gin\, Malibu\, Martell Cognac\, Midleton\, Monkey 47\, Olmeca Altos Tequila\, Pernod\, Perrier-Jouet\, Plymouth Gin\, Powers Irish Whiskey\, Rabbit Hole\, Ramazzotti\, Redbreast\, Stoneleigh
X-ALT-DESC;FMTTYPE=text/html:<strong>Perfect Holiday Gift Idea: Pernod Ricard Brands offer a large variety of Items for just about anyone. Ranging from Wines to Whiskeys\, this collection is for everyone. Here is a list of Products we carry in our store right now:&nbsp\;</strong><span style="background-color:rgb(255\, 255\, 255)\; color:rgb(51\, 51\, 51)\; font-family:sans-serif\,arial\,verdana\,trebuchet ms\; font-size:13px">Aberlour\, Absolut\, Avion\, Ballantine&#39\;s\, Beefeater\, Brancott Estates\, Campo Viejo\, Chivas Regal\, Codigo\, G.H. Mumm\, Glenlivet\, Jacobs Creek\, Jameson\, Jefferson&#39\;s Reserve\, Kahlua\, Kenwood\, Lillet\, Malfy Gin\, Malibu\, Martell Cognac\, Midleton\, Monkey 47\, Olmeca Altos Tequila\, Pernod\, Perrier-Jouet\, Plymouth Gin\, Powers Irish Whiskey\, Rabbit Hole\, Ramazzotti\, Redbreast\, Stoneleigh</span>
LOCATION:Banks Wines & Spirits 38014 Town Center Dr. Millville\, DE 19967
UID:e.2126.27057
SEQUENCE:3
DTSTAMP:20260420T170010Z
URL:http://business.thequietresorts.com/events/details/pernod-ricard-brands-bottle-engraving-holiday-event-at-banks-wine-and-spirits-11-24-2023-27057
END:VEVENT

END:VCALENDAR
