BEGIN:VCALENDAR
VERSION:2.0
PRODID:-//ChamberMaster//Event Calendar 2.0//EN
METHOD:PUBLISH
X-PUBLISHED-TTL:P3D
REFRESH-INTERVAL:P3D
CALSCALE:GREGORIAN
BEGIN:VEVENT
DTSTART:20221024T200000Z
DTEND:20221025T010000Z
X-MICROSOFT-CDO-ALLDAYEVENT:FALSE
SUMMARY:Pasta Night & 1/2 Price Wine Bottles at Harvest Tide Steakhouse Bethany Beach
DESCRIPTION:Every Monday night we are offering Pasta Specials and 1/2 price bottles of wine!
X-ALT-DESC;FMTTYPE=text/html:Every Monday night we are offering Pasta Specials and 1/2 price bottles of wine!
LOCATION:Harvest Tide Steakhouse 98 Garfield Pkwy\, Bethany Beach 19930 2nd Floor
UID:e.2126.24499
SEQUENCE:3
DTSTAMP:20260421T160858Z
URL:http://business.thequietresorts.com/events/details/pasta-night-1-2-price-wine-bottles-at-harvest-tide-steakhouse-bethany-beach-24499
END:VEVENT

END:VCALENDAR
