BEGIN:VCALENDAR
VERSION:2.0
PRODID:-//ChamberMaster//Event Calendar 2.0//EN
METHOD:PUBLISH
X-PUBLISHED-TTL:P3D
REFRESH-INTERVAL:P3D
CALSCALE:GREGORIAN
BEGIN:VEVENT
DTSTART:20240205T160000Z
DTEND:20240411T160000Z
X-MICROSOFT-CDO-ALLDAYEVENT:FALSE
SUMMARY:Parkinson's Disease Exercise Program at CustomFit360
DESCRIPTION:Starting February 5th\, we will be offering a Parkinson class twice a week for 10 weeks. We ONLY have 6 spots available! This is a comprehensive\, active exercise class designed to work on increased strength\, flexibility\, balance and agility. Primarily standing exercises using support as needed.\n\n\n\nEmail or call us for more information or to reserve your spot today!\n\n302.581.2027 Melissa@customfit360de.com
X-ALT-DESC;FMTTYPE=text/html:Starting February 5th\, we will be offering a Parkinson class twice a week for 10 weeks. We ONLY have 6 spots available! This is a comprehensive\, active exercise class designed to work on increased strength\, flexibility\, balance and agility. Primarily standing exercises using support as needed.<br />\n<br />\nEmail or call us for more information or to reserve your spot today!<br />\n302.581.2027 Melissa@customfit360de.com
LOCATION:CustomFit360 29K Atlantic Ave Ocean View\, DE 19970
UID:e.2126.28012
SEQUENCE:3
DTSTAMP:20260420T060234Z
URL:http://business.thequietresorts.com/events/details/parkinson-s-disease-exercise-program-at-customfit360-28012
END:VEVENT

END:VCALENDAR
