BEGIN:VCALENDAR
VERSION:2.0
PRODID:-//ChamberMaster//Event Calendar 2.0//EN
METHOD:PUBLISH
X-PUBLISHED-TTL:P3D
REFRESH-INTERVAL:P3D
CALSCALE:GREGORIAN
BEGIN:VEVENT
DTSTART:20220803T190000Z
DTEND:20220806T163000Z
X-MICROSOFT-CDO-ALLDAYEVENT:FALSE
SUMMARY:Parish of St Ann Annual Bazaar
DESCRIPTION:Annual Bazaar - August 3 - 6\, 2022 Bring your family and friends and enjoy a shopping extravaganza and good food. Three large buildings plus tented areas will sell new and gently used treasures. There will be linens\, jewelry\, small appliances\, housewares\, kitchenware\, Christmas\, religious\, books\, hand painted items\, toys\, bikes\, furniture\, gardening\, outdoor furniture\, tools and more. Enjoy a break from your shopping and grab a bite to eat. Serving sausage subs\, barbeque sandwiches\, hot dogs\, root beer floats and more. Accepting cash and credit cards. Premier Night\, Thursday\, August 3\, 3 p.m. to 7 p.m. with a $5 donation at the door. Arrive early to get all the best choices. The Silent Auction will also open August 3 and end with the closing bell on Saturday\, August 6 at 12:30 p. m. The Bazaar will continue on Thursday and Friday\, 9:30 a.m. to 5 p.m. and Saturday 9:30 a.m. to 12:30 p.m. Raffles include a wicker outdoor set\, a You-Pick-It raffle and a custom designed queen-sized quilt. These raffles will be drawn on Saturday\, August 6 at 12 p.m. Holly Kia car/cash raffle tickets will also be sold and that drawing will be held on Labor Day Monday\, September 5 on the Bethany Beach Boardwalk after the Summer Jazz Funeral at 6p.m.
X-ALT-DESC;FMTTYPE=text/html:<span style="font-size:14px\;"><span style="font-family:arial\;">Annual Bazaar - August 3 - 6\, 2022 Bring your family and friends and enjoy a shopping extravaganza and good food. Three large buildings plus tented areas will sell new and gently used treasures. There will be linens\, jewelry\, small appliances\, housewares\, kitchenware\, Christmas\, religious\, books\, hand painted items\, toys\, bikes\, furniture\, gardening\, outdoor furniture\, tools and more. Enjoy a break from your shopping and grab a bite to eat. Serving sausage subs\, barbeque sandwiches\, hot dogs\, root beer floats and more. Accepting cash and credit cards. Premier Night\, Thursday\, August 3\, 3 p.m. to 7 p.m. with a $5 donation at the door. Arrive early to get all the best choices. The Silent Auction will also open August 3 and end with the closing bell on Saturday\, August 6 at 12:30 p. m. The Bazaar will continue on Thursday and Friday\, 9:30 a.m. to 5 p.m. and Saturday 9:30 a.m. to 12:30 p.m. Raffles include a wicker outdoor set\, a You-Pick-It raffle and a custom designed queen-sized quilt. These raffles will be drawn on Saturday\, August 6 at 12 p.m. Holly Kia car/cash raffle tickets will also be sold and that drawing will be held on Labor Day Monday\, September 5 on the Bethany Beach Boardwalk after the Summer Jazz Funeral at 6p.m.</span></span>
LOCATION:691 Garfield Parkway Bethany Beach\, DE 19930
UID:e.2126.23817
SEQUENCE:3
DTSTAMP:20260421T191516Z
URL:http://business.thequietresorts.com/events/details/parish-of-st-ann-annual-bazaar-23817
END:VEVENT

END:VCALENDAR
