BEGIN:VCALENDAR
VERSION:2.0
PRODID:-//ChamberMaster//Event Calendar 2.0//EN
METHOD:PUBLISH
X-PUBLISHED-TTL:P3D
REFRESH-INTERVAL:P3D
CALSCALE:GREGORIAN
BEGIN:VEVENT
DTSTART:20240427T113000Z
DTEND:20240427T143000Z
X-MICROSOFT-CDO-ALLDAYEVENT:FALSE
SUMMARY:Pancake Breakfast at The Salted Rim to Benefit Bethany Beach Voluneer Fire Company Auxiliary
DESCRIPTION:Bethany Beach Volunteer\n\nFire Company Auxiliary\n\n\n\nPancake Breakfast\n\n\n\nSaturday. April 27\n\n7:30 am - 10:30 am\n\n\n\nAll proceeds go to the Bethany Beach Volunteer Fire Company\n\n\n\nAdults:  $15.00\n\nKids:  $6.00 (Ages 3-10)\n\nCash Bar after 9:00 am\n\n\n\nIncludes:  Pancakes\, pork sausages\, eggs\, assorted muffins\n\ncoffee\, tea\, iced tea\, OJ\n\n\n\nContact:  Linda Smith   484-888-8654\n\nfor tickets\n\nWalk-ins Welcome
X-ALT-DESC;FMTTYPE=text/html:<div style="text-align: center\;"><span style="font-family:comic sans ms"><span style="font-size:18px"><strong><span style="color:#0000CD">Bethany Beach Volunteer<br />\nFire Company Auxiliary</span><br />\n<br />\nPancake Breakfast</strong><br />\n<br />\n<span style="font-size:14px"><span style="font-family:verdana"><strong>Saturday. April 27<br />\n7:30 am - 10:30 am<br />\n<br />\n<em><span style="font-family:arial\,helvetica\,sans-serif">All proceeds go to the Bethany Beach Volunteer Fire Company<br />\n<br />\nAdults:&nbsp\; $15.00<br />\nKids:&nbsp\; $6.00 (Ages 3-10)<br />\nCash Bar after 9:00 am<br />\n<br />\nIncludes:&nbsp\; Pancakes\, pork sausages\, eggs\, assorted muffins<br />\ncoffee\, tea\, iced tea\, OJ<br />\n<br />\n<span style="font-family:verdana"><span style="font-size:16px">Contact:&nbsp\; Linda Smith &bull\; 484-888-8654<br />\nfor tickets<br />\nWalk-ins Welcome</span></span></span></em></strong></span></span></span></span></div>\n
LOCATION:The Salted Rim Margarita Bar & Grille 35553 Atlantic Avenue Millville\, DE 19967
UID:e.2126.28662
SEQUENCE:3
DTSTAMP:20260420T073637Z
URL:http://business.thequietresorts.com/events/details/pancake-breakfast-at-the-salted-rim-to-benefit-bethany-beach-voluneer-fire-company-auxiliary-28662
END:VEVENT

END:VCALENDAR
