BEGIN:VCALENDAR
VERSION:2.0
PRODID:-//ChamberMaster//Event Calendar 2.0//EN
METHOD:PUBLISH
X-PUBLISHED-TTL:P3D
REFRESH-INTERVAL:P3D
CALSCALE:GREGORIAN
BEGIN:VEVENT
DTSTART:20240405T143000Z
DTEND:20240405T163000Z
X-MICROSOFT-CDO-ALLDAYEVENT:FALSE
SUMMARY:Painted Pots at Inland Bays Garden Center
DESCRIPTION:Be among the flowers as we use them as our inspiration in " Painted Pots".\n\nYou will be instructed on how to paint the featured flower on a terra cotta pot with acrylic by Kathy Dennin-Meagher owner Raye of Light Studio. Enjoy making your custom hand painted pot that will be as unique as the flowers...no two are alike. Purchase flowers from Inland Bays Garden Center to complete the project and take them home.
X-ALT-DESC;FMTTYPE=text/html:<p>Be among the flowers as we use them as our inspiration in &quot\; Painted Pots&quot\;.</p>\n\n<p>You will be instructed on how to paint the featured flower on a terra cotta pot with acrylic by Kathy Dennin-Meagher owner Raye of Light Studio. Enjoy making your custom hand painted pot that will be as unique as the flowers...no two are alike. Purchase flowers from Inland Bays Garden Center to complete the project and take them home.</p>\n
LOCATION:Inland Bays Garden Center 38320 Muddy Neck Road Frankford\, DE\, 19945
UID:e.2126.28467
SEQUENCE:3
DTSTAMP:20260420T073629Z
URL:http://business.thequietresorts.com/events/details/painted-pots-at-inland-bays-garden-center-28467
END:VEVENT

END:VCALENDAR
