BEGIN:VCALENDAR
VERSION:2.0
PRODID:-//ChamberMaster//Event Calendar 2.0//EN
METHOD:PUBLISH
X-PUBLISHED-TTL:P3D
REFRESH-INTERVAL:P3D
CALSCALE:GREGORIAN
BEGIN:VEVENT
DTSTART:20220216T140000Z
DTEND:20220216T150000Z
X-MICROSOFT-CDO-ALLDAYEVENT:FALSE
SUMMARY:Paid Family & Medical Leave Zoom Webinar
DESCRIPTION:TO SUBMIT A QUESTION IN ADVANCE you must register by Friday\, February 11th and fill out the optional question box.\n\n						\n\n						What the Healthy Delaware Families Act Means for Your Business\n\n						The Healthy Delaware Families Act was introduced last year by Senator Sarah McBride. The original bill\, SB 1\, did not see action last year. It has now been rewritten and reintroduced on January 24\, 2022 as Senate Substitute 1 for SB 1. The legislation proposes to require all Delaware employers with 10 or more employees to have family and medical leave policies and a State-run policy option that includes a split financial contribution between employer and employee.\n\n						 \n\n						A opportunity to learn more about this proposal is being offered by the Delaware State Chamber of Commerce\, Delaware SHRM\, and DelMarVa SHRM. \n\n						 \n\n						Attendees will hear from:\n					\n				\n			\n			\n		\n	\n\n\n\n	\n		\n			\n			\n				\n					\n						\n						\n							\n								\n									Rick Geisenberger\n\n									Secretary\, DE Dept. of Finance\n\n									BIO\n								\n							\n						\n						\n						\n						\n							\n								\n									Karryl Hubbard\n\n									Secretary\, DE Dept. of Labor\n\n									BIO\n								\n							\n						\n						\n						\n						\n							\n								\n									Sarah McBride\n\n									Delaware State Senate\, District 1\n\n									BIO\n								\n							\n						\n						\n						\n						\n							\n								\n									Jacqueline \n\n									Poquette\n\n									Director\, DE SHRM State Council\n\n									BIO\n								\n							\n						\n						\n						\n						\n							\n								\n									Albert Shields\n\n									Dep. Chief of Staff\, Policy\, Office of the Governor\n\n									BIO\n								\n							\n						\n						\n					\n				\n			\n			\n		\n	\n\n\n\n\n	\n		\n			\n			\n				\n					\n						Moderated by State Chamber president\, Mike Quaranta\, this discussion will explore:\n\n						        what?s in the bill\;\n\n						        how it impacts employers and employees\;\n\n						        the Dept. of Labor?s involvement in administering the new program\;\n\n						        the Dept. of Finance?s economic perspective on the Act\;\n\n						        and address your questions and concerns.\n\n						 \n\n						This free Zoom webinar will be open to all Delaware State Chamber members and future members\, SHRM members\, and public officials. \n\n						 \n\n						SUBMIT A QUESTION IN ADVANCE by filling out the optional question box when registering. All questions must be submitted in advance no later than Friday\, February 11.\n					\n				\n			\n			\n		\n	\n\n\n \n\n\n	\n		\n			\n			\n				\n					\n						SHRM members: Earn 1.00 recertification credits for attending. No cost to participants.\n\n						Access information will be sent prior to the webinar.
X-ALT-DESC;FMTTYPE=text/html:<table align="center" border="0" cellpadding="0" cellspacing="0" style="width:100.0%\;border-collapse:collapse\;" width="100%">\n	<tbody>\n		<tr>\n			<td style="width:100.0%\;padding:0in 0in 0in 0in\;vertical-align:top\;">\n			<table border="0" cellpadding="0" cellspacing="0" style="width:100.0%\;border-collapse:collapse\;" width="100%">\n				<tbody>\n					<tr>\n						<td style="padding:7.5pt 15.0pt 7.5pt 15.0pt\;vertical-align:top\;"><span style="font-family: Arial\; box-sizing: content-box\; font-weight: bolder\; inset: auto\; clear: none\; color: rgb(37\, 32\, 26)\; content: normal\; direction: inherit\; empty-cells: show\; font-variant-numeric: inherit\; font-variant-east-asian: inherit\; font-stretch: inherit\; font-size: 15px\; line-height: inherit\; margin: 0px\; max-height: none\; max-width: none\; min-height: initial\; min-width: initial\; opacity: 1\; outline-offset: 0px\; overflow: visible\; padding: 0px\; position: static\; resize: none\; table-layout: auto\; text-overflow: clip\; vertical-align: baseline\; visibility: inherit\; word-break: inherit\; overflow-wrap: inherit\; z-index: auto\; background-image: none\; background-position: initial\; background-size: initial\; background-repeat: initial\; background-attachment: initial\; background-origin: initial\; background-clip: initial\; border-width: initial\; border-style: none\; border-color: initial\; border-collapse: separate\; border-image: none 100% 1 0 / 1 / 0 stretch\; border-radius: 0px\; height: auto\; width: auto\; box-shadow: none\;"><span style="font: inherit\; box-sizing: content-box\; inset: auto\; clear: none\; color: rgb(61\, 58\, 58)\; content: normal\; direction: inherit\; empty-cells: show\; letter-spacing: inherit\; margin: 0px\; max-height: none\; max-width: none\; min-height: initial\; min-width: initial\; opacity: 1\; outline-offset: 0px\; overflow: visible\; padding: 0px\; position: static\; resize: none\; table-layout: auto\; text-align: inherit\; text-indent: inherit\; text-overflow: clip\; text-transform: inherit\; vertical-align: baseline\; visibility: inherit\; white-space: inherit\; word-break: inherit\; word-spacing: inherit\; overflow-wrap: inherit\; z-index: auto\; background: none\; border-width: initial\; border-style: none\; border-color: initial\; border-collapse: separate\; border-image: none 100% 1 0 / 1 / 0 stretch\; border-radius: 0px\; height: auto\; width: auto\; box-shadow: none\;"><span style="font-family: inherit\; box-sizing: content-box\; inset: auto\; clear: none\; color: inherit\; content: normal\; direction: inherit\; empty-cells: show\; font-style: inherit\; font-variant: inherit\; font-weight: inherit\; font-stretch: inherit\; font-size: 12pt\; letter-spacing: inherit\; line-height: inherit\; margin: 0px\; max-height: none\; max-width: none\; min-height: initial\; min-width: initial\; opacity: 1\; outline-offset: 0px\; overflow: visible\; padding: 0px\; position: static\; resize: none\; table-layout: auto\; text-align: inherit\; text-indent: inherit\; text-overflow: clip\; text-transform: inherit\; vertical-align: baseline\; visibility: inherit\; white-space: inherit\; word-break: inherit\; word-spacing: inherit\; overflow-wrap: inherit\; z-index: auto\; background: none\; border-width: initial\; border-style: none\; border-color: initial\; border-collapse: separate\; border-image: none 100% 1 0 / 1 / 0 stretch\; border-radius: 0px\; height: auto\; width: auto\; box-shadow: none\;">TO SUBMIT A QUESTION IN ADVANCE you must register by Friday\, February 11th and fill out the optional question box.</span></span></span><br />\n						<br />\n						<strong><span style="font-size:14px\;">What the Healthy Delaware Families Act Means for Your Business</span></strong><br />\n						<span style="color:#3D3A3A\;"><span style="font-size:12.0pt\;">The Healthy Delaware Families Act was introduced last year by Senator Sarah McBride. The original bill\, SB 1\, did not see action last year. It has now been rewritten and reintroduced on January 24\, 2022 as&nbsp\;</span></span><a href="https://r20.rs6.net/tn.jsp?f=001yEfEpBfmwvekB5jBiCtyInJ2tfanfNXkMJBhym6u3W5id8zQFIM5qmYhufLQioD0aTJu6Iy72PdGvSF-NudrkH9FlTGm1J7CBgWWE3vobN4Oj5iq82335hORmjYQn8pa5h7-Wgby2gHxsaIVc1T-cBKt03CWQ3khCP9tmcvb-MQ=&amp\;c=7Og0SVxu-gfhLT_1vyBX2kfY4qtQP07yPZBjoNKccOA2ppotPLSQeg==&amp\;ch=sIqaptwQHEVz3ePOZmYvuDswkIMbAggMXSbQ5X7szTm-qnbFlz-RQA==" target="_blank"><strong><span style="text-decoration:none\;text-underline:none\;"><span style="color:#3A96B8\;"><span style="font-size:12.0pt\;">Senate Substitute 1 for SB&nbsp\;1</span></span></span></strong></a><a href="https://r20.rs6.net/tn.jsp?f=001yEfEpBfmwvekB5jBiCtyInJ2tfanfNXkMJBhym6u3W5id8zQFIM5qmYhufLQioD0aTJu6Iy72PdGvSF-NudrkH9FlTGm1J7CBgWWE3vobN4Oj5iq82335hORmjYQn8pa5h7-Wgby2gHxsaIVc1T-cBKt03CWQ3khCP9tmcvb-MQ=&amp\;c=7Og0SVxu-gfhLT_1vyBX2kfY4qtQP07yPZBjoNKccOA2ppotPLSQeg==&amp\;ch=sIqaptwQHEVz3ePOZmYvuDswkIMbAggMXSbQ5X7szTm-qnbFlz-RQA==" target="_blank"><span style="text-decoration:none\;text-underline:none\;"><span style="color:#3A96B8\;"><span style="font-size:12.0pt\;">.</span></span></span></a><span style="color:#3D3A3A\;"><span style="font-size:12.0pt\;"> The legislation proposes to require all Delaware employers with 10 or more employees to have family and medical leave policies and a State-run policy option that includes a split financial contribution between employer and employee.</span></span><br />\n						&nbsp\;<br />\n						<span style="color:#3D3A3A\;"><span style="font-size:12.0pt\;">A opportunity to learn more about this proposal is being offered by the </span></span><a href="https://r20.rs6.net/tn.jsp?f=001yEfEpBfmwvekB5jBiCtyInJ2tfanfNXkMJBhym6u3W5id8zQFIM5qnc9zkUo7EKxRSuPJim47HGKBfdWI7vDRcUQdLU4Pa0T0pdA2k3uspaS4mQdaSx4WtEHCtblfvejiJa7gqM9p0s=&amp\;c=7Og0SVxu-gfhLT_1vyBX2kfY4qtQP07yPZBjoNKccOA2ppotPLSQeg==&amp\;ch=sIqaptwQHEVz3ePOZmYvuDswkIMbAggMXSbQ5X7szTm-qnbFlz-RQA==" target="_blank"><strong><span style="text-decoration:none\;text-underline:none\;"><span style="color:#3A96B8\;"><span style="font-size:12.0pt\;">Delaware State Chamber of Commerce</span></span></span></strong></a><span style="color:#3D3A3A\;"><span style="font-size:12.0pt\;">\,</span></span> <a href="https://r20.rs6.net/tn.jsp?f=001yEfEpBfmwvekB5jBiCtyInJ2tfanfNXkMJBhym6u3W5id8zQFIM5qhYEjwz-TOQF8O6QkCDj2VbQTOGzDJskn1eIiGV-hoV3pWvP-v-H4a1HrkG7k4fdLI_w6h_dA0FHWzuXL3tCqxY=&amp\;c=7Og0SVxu-gfhLT_1vyBX2kfY4qtQP07yPZBjoNKccOA2ppotPLSQeg==&amp\;ch=sIqaptwQHEVz3ePOZmYvuDswkIMbAggMXSbQ5X7szTm-qnbFlz-RQA==" target="_blank"><strong><span style="text-decoration:none\;text-underline:none\;"><span style="color:#3A96B8\;"><span style="font-size:12.0pt\;">Delaware SHRM</span></span></span></strong></a><span style="color:#3D3A3A\;"><span style="font-size:12.0pt\;">\, and </span></span><a href="https://r20.rs6.net/tn.jsp?f=001yEfEpBfmwvekB5jBiCtyInJ2tfanfNXkMJBhym6u3W5id8zQFIM5qhYEjwz-TOQFVp73Vv1wClQgf2BrXyt-jge5uW0-BNL0DIGu8ZAuYkXsO0MYLqsR0uUbgJKN06in1NpONib6VF1GiJ1fD2mojw==&amp\;c=7Og0SVxu-gfhLT_1vyBX2kfY4qtQP07yPZBjoNKccOA2ppotPLSQeg==&amp\;ch=sIqaptwQHEVz3ePOZmYvuDswkIMbAggMXSbQ5X7szTm-qnbFlz-RQA==" target="_blank"><strong><span style="text-decoration:none\;text-underline:none\;"><span style="color:#3A96B8\;"><span style="font-size:12.0pt\;">DelMarVa SHRM</span></span></span></strong></a><span style="color:#3D3A3A\;"><span style="font-size:12.0pt\;">. </span></span><br />\n						&nbsp\;<br />\n						<strong><span style="color:#3D3A3A\;"><span style="font-size:12.0pt\;">Attendees will hear from:</span></span></strong></td>\n					</tr>\n				</tbody>\n			</table>\n			</td>\n		</tr>\n	</tbody>\n</table>\n\n<table align="center" border="0" cellpadding="0" cellspacing="0" style="width:100.0%\;border-collapse:collapse\;min-width:100%\;" width="100%">\n	<tbody>\n		<tr>\n			<td style="width:100.0%\;background:white\;padding:0in 11.25pt 0in 11.25pt\;vertical-align:top\;">\n			<table border="0" cellpadding="0" cellspacing="0" style="width:100.0%\;border-collapse:collapse\;min-width:100%\;" width="100%">\n				<tbody>\n					<tr>\n						<td style="width:20.0%\;background:white\;padding:0in 0in 0in 0in\;vertical-align:top\;">\n						<table border="0" cellpadding="0" cellspacing="0" style="width:100.0%\;border-collapse:collapse\;" width="100%">\n							<tbody>\n								<tr>\n									<td style="padding:7.5pt 3.75pt 7.5pt 3.75pt\;vertical-align:top\;"><strong><span style="color:#3D3A3A\;"><span style="font-size:10.5pt\;">Rick Geisenberger</span></span></strong><br />\n									<span style="color:#3D3A3A\;"><span style="font-size:10.5pt\;">Secretary\, DE Dept.&nbsp\;of Finance</span></span><br />\n									<a href="https://r20.rs6.net/tn.jsp?f=001yEfEpBfmwvekB5jBiCtyInJ2tfanfNXkMJBhym6u3W5id8zQFIM5qhYEjwz-TOQF8FWcX7QSk5UJP4kjxI0IPH_h_ooa23hkj7IvHpQnunLJGt2NC327xHT21VGiPTeLhSgSu4350VsB12mi9KnrGKsQbQVRaFkvYXQ2WvqXjkUdZ7RcuCisH-cZjs1pk9d6o4xBjc_PUK0ip51NPYQ680WoTFJehHp-FNgC0Zir0tM86t4ddbrvJQ==&amp\;c=7Og0SVxu-gfhLT_1vyBX2kfY4qtQP07yPZBjoNKccOA2ppotPLSQeg==&amp\;ch=sIqaptwQHEVz3ePOZmYvuDswkIMbAggMXSbQ5X7szTm-qnbFlz-RQA==" target="_blank"><span style="text-decoration:none\;text-underline:none\;"><span style="color:#3A96B8\;"><span style="font-size:10.5pt\;">BIO</span></span></span></a></td>\n								</tr>\n							</tbody>\n						</table>\n						</td>\n						<td style="width:20.0%\;background:white\;padding:0in 0in 0in 0in\;vertical-align:top\;">\n						<table border="0" cellpadding="0" cellspacing="0" style="width:100.0%\;border-collapse:collapse\;min-width:100%\;" width="100%">\n							<tbody>\n								<tr>\n									<td style="padding:7.5pt 3.75pt 7.5pt 3.75pt\;vertical-align:top\;"><strong><span style="color:#3D3A3A\;"><span style="font-size:10.5pt\;">Karryl Hubbard</span></span></strong><br />\n									<span style="color:#3D3A3A\;"><span style="font-size:10.5pt\;">Secretary\, DE Dept. of Labor</span></span><br />\n									<a href="https://r20.rs6.net/tn.jsp?f=001yEfEpBfmwvekB5jBiCtyInJ2tfanfNXkMJBhym6u3W5id8zQFIM5qhYEjwz-TOQFsrq0RW3XKnOg-6vOrWmjJVT4MKsGkVJwBoldQV8xZfmTurUV_AeicyXSwsqf0VTi4HqIrzEVjvtdUcbH9Y_jQJcXyJTPmMfYNEu8KaXLkr7EGQbVfuQ90KUDfim9onZahbp9cMfD1lhJrcZktLfKeo9R7BCCcQR8uS8NWCefSokoa-z3s1js_w==&amp\;c=7Og0SVxu-gfhLT_1vyBX2kfY4qtQP07yPZBjoNKccOA2ppotPLSQeg==&amp\;ch=sIqaptwQHEVz3ePOZmYvuDswkIMbAggMXSbQ5X7szTm-qnbFlz-RQA==" target="_blank"><span style="text-decoration:none\;text-underline:none\;"><span style="color:#3A96B8\;"><span style="font-size:10.5pt\;">BIO</span></span></span></a></td>\n								</tr>\n							</tbody>\n						</table>\n						</td>\n						<td style="width:20.0%\;background:white\;padding:0in 0in 0in 0in\;vertical-align:top\;">\n						<table border="0" cellpadding="0" cellspacing="0" style="width:100.0%\;border-collapse:collapse\;min-width:100%\;" width="100%">\n							<tbody>\n								<tr>\n									<td style="padding:7.5pt 3.75pt 7.5pt 3.75pt\;vertical-align:top\;"><strong><span style="color:#3D3A3A\;"><span style="font-size:10.5pt\;">Sarah McBride</span></span></strong><br />\n									<span style="color:#3D3A3A\;"><span style="font-size:10.5pt\;">Delaware State Senate\, District 1</span></span><br />\n									<a href="https://r20.rs6.net/tn.jsp?f=001yEfEpBfmwvekB5jBiCtyInJ2tfanfNXkMJBhym6u3W5id8zQFIM5qhYEjwz-TOQFdvBXT2cYcWA7O0nL0EqvVUS0_RL23U7VjISTlOU6vKbuGg8A_iWQhBFpwTHV2IlXUVovcniU53rI9G5mdTy4SzsYU1jzQMevHTRVPz5lzjhLetDeJrOf5GpK7CTaod5Q&amp\;c=7Og0SVxu-gfhLT_1vyBX2kfY4qtQP07yPZBjoNKccOA2ppotPLSQeg==&amp\;ch=sIqaptwQHEVz3ePOZmYvuDswkIMbAggMXSbQ5X7szTm-qnbFlz-RQA==" target="_blank"><span style="text-decoration:none\;text-underline:none\;"><span style="color:#3A96B8\;"><span style="font-size:10.5pt\;">BIO</span></span></span></a></td>\n								</tr>\n							</tbody>\n						</table>\n						</td>\n						<td style="width:20.0%\;background:white\;padding:0in 0in 0in 0in\;vertical-align:top\;">\n						<table border="0" cellpadding="0" cellspacing="0" style="width:100.0%\;border-collapse:collapse\;min-width:100%\;" width="100%">\n							<tbody>\n								<tr>\n									<td style="padding:7.5pt 3.75pt 7.5pt 3.75pt\;vertical-align:top\;"><strong><span style="color:#3D3A3A\;"><span style="font-size:10.5pt\;">Jacqueline&nbsp\;</span></span></strong><br />\n									<strong><span style="color:#3D3A3A\;"><span style="font-size:10.5pt\;">Poquette</span></span></strong><br />\n									<span style="color:#3D3A3A\;"><span style="font-size:10.5pt\;">Director\, DE SHRM State Council</span></span><br />\n									<a href="https://r20.rs6.net/tn.jsp?f=001yEfEpBfmwvekB5jBiCtyInJ2tfanfNXkMJBhym6u3W5id8zQFIM5qhYEjwz-TOQFJ2SJZ4j58Zqrt4LYYlrAtWBK94JbqhK9V2Mdld2f5bfmmQWotI24K7RrXWjmDwdHHFLM65HHLN5W9b5OTgyCzQoFPi4dkzmXmguZmFQQHCZnk4SB8AHbm0hxivjyaVHy3SW4XHwIhtgGVMNF_CMy8tw15TgHBoDKtEkNmxOa6TT8AcHbyQRrxA==&amp\;c=7Og0SVxu-gfhLT_1vyBX2kfY4qtQP07yPZBjoNKccOA2ppotPLSQeg==&amp\;ch=sIqaptwQHEVz3ePOZmYvuDswkIMbAggMXSbQ5X7szTm-qnbFlz-RQA==" target="_blank"><span style="text-decoration:none\;text-underline:none\;"><span style="color:#3A96B8\;"><span style="font-size:10.5pt\;">BIO</span></span></span></a></td>\n								</tr>\n							</tbody>\n						</table>\n						</td>\n						<td style="width:20.0%\;background:white\;padding:0in 0in 0in 0in\;vertical-align:top\;">\n						<table border="0" cellpadding="0" cellspacing="0" style="width:100.0%\;border-collapse:collapse\;min-width:100%\;" width="100%">\n							<tbody>\n								<tr>\n									<td style="padding:7.5pt 3.75pt 7.5pt 3.75pt\;vertical-align:top\;"><strong><span style="color:#3D3A3A\;"><span style="font-size:10.5pt\;">Albert Shields</span></span></strong><br />\n									<span style="color:#3D3A3A\;"><span style="font-size:10.5pt\;">Dep. Chief of Staff\, Policy\, Office of the Governor</span></span><br />\n									<a href="https://r20.rs6.net/tn.jsp?f=001yEfEpBfmwvekB5jBiCtyInJ2tfanfNXkMJBhym6u3W5id8zQFIM5qhYEjwz-TOQF1ko3rBBneQaF-y9hOPVbvNmKj00jqrhY2XJ9wToalou4ynQDnJ3lgFboZdc_nGaqq3W5jqwrfqOtZ5Uc9k9tBykDoqTRnmaazFL6YQTZ4j26P64x-aGxIDinlHIMSerfiq2eF9Q8doFK8rPSPqrd3jc-ombiHViEF2dWLGBnXh-ncr9cwdkkDg==&amp\;c=7Og0SVxu-gfhLT_1vyBX2kfY4qtQP07yPZBjoNKccOA2ppotPLSQeg==&amp\;ch=sIqaptwQHEVz3ePOZmYvuDswkIMbAggMXSbQ5X7szTm-qnbFlz-RQA==" target="_blank"><span style="text-decoration:none\;text-underline:none\;"><span style="color:#3A96B8\;"><span style="font-size:10.5pt\;">BIO</span></span></span></a></td>\n								</tr>\n							</tbody>\n						</table>\n						</td>\n					</tr>\n				</tbody>\n			</table>\n			</td>\n		</tr>\n	</tbody>\n</table>\n\n<div style="clear:both\;">\n<table align="center" border="0" cellpadding="0" cellspacing="0" style="width:100.0%\;border-collapse:collapse\;" width="100%">\n	<tbody>\n		<tr>\n			<td style="width:100.0%\;padding:0in 0in 0in 0in\;vertical-align:top\;">\n			<table border="0" cellpadding="0" cellspacing="0" style="width:100.0%\;border-collapse:collapse\;" width="100%">\n				<tbody>\n					<tr>\n						<td style="padding:7.5pt 15.0pt 7.5pt 15.0pt\;vertical-align:top\;"><span style="color:#3D3A3A\;"><span style="font-size:12.0pt\;">Moderated by State Chamber president\,&nbsp\;<strong>Mike Quaranta</strong>\, this discussion will explore:</span></span><br />\n						<span style="color:#3D3A3A\;"><span style="font-family:symbol\;"><span style="font-size:10.0pt\;">&middot\;</span></span></span>&nbsp\;&nbsp\;&nbsp\;&nbsp\; <span style="color:#3D3A3A\;"><span style="font-size:12.0pt\;">&nbsp\;&nbsp\;what?s in the bill\;</span></span><br />\n						<span style="color:#3D3A3A\;"><span style="font-family:symbol\;"><span style="font-size:10.0pt\;">&middot\;</span></span></span>&nbsp\;&nbsp\;&nbsp\;&nbsp\; <span style="color:#3D3A3A\;"><span style="font-size:12.0pt\;">&nbsp\;&nbsp\;how it impacts employers and employees\;</span></span><br />\n						<span style="color:#3D3A3A\;"><span style="font-family:symbol\;"><span style="font-size:10.0pt\;">&middot\;</span></span></span>&nbsp\;&nbsp\;&nbsp\;&nbsp\; <span style="color:#3D3A3A\;"><span style="font-size:12.0pt\;">&nbsp\;&nbsp\;the Dept. of Labor?s involvement in administering the new program\;</span></span><br />\n						<span style="color:#3D3A3A\;"><span style="font-family:symbol\;"><span style="font-size:10.0pt\;">&middot\;</span></span></span>&nbsp\;&nbsp\;&nbsp\;&nbsp\; <span style="color:#3D3A3A\;"><span style="font-size:12.0pt\;">&nbsp\;&nbsp\;the Dept. of Finance?s&nbsp\;economic perspective on the Act\;</span></span><br />\n						<span style="color:#3D3A3A\;"><span style="font-family:symbol\;"><span style="font-size:10.0pt\;">&middot\;</span></span></span>&nbsp\;&nbsp\;&nbsp\;&nbsp\; <span style="color:#3D3A3A\;"><span style="font-size:12.0pt\;">&nbsp\;&nbsp\;and address your questions and concerns.</span></span><br />\n						&nbsp\;<br />\n						<span style="color:#3D3A3A\;"><span style="font-size:12.0pt\;">This free Zoom webinar will be open to all Delaware State Chamber members and future members\, SHRM members\, and public officials.&nbsp\;</span></span><br />\n						&nbsp\;<br />\n						<strong><span style="color:#3D3A3A\;"><span style="font-size:12.0pt\;">SUBMIT A QUESTION IN ADVANCE by filling out the optional question box when registering. All questions must be submitted in advance no later than Friday\, February 11.</span></span></strong></td>\n					</tr>\n				</tbody>\n			</table>\n			</td>\n		</tr>\n	</tbody>\n</table>\n\n<div style="clear:both\;">&nbsp\;</div>\n\n<table align="center" border="0" cellpadding="0" cellspacing="0" style="width:100.0%\;border-collapse:collapse\;min-width:100%\;" width="100%">\n	<tbody>\n		<tr>\n			<td style="width:100.0%\;padding:0in 0in 0in 0in\;vertical-align:top\;">\n			<table border="0" cellpadding="0" cellspacing="0" style="width:100.0%\;border-collapse:collapse\;min-width:100%\;" width="100%">\n				<tbody>\n					<tr>\n						<td style="padding:7.5pt 15.0pt 7.5pt 15.0pt\;vertical-align:top\;"><span style="color:#3D3A3A\;"><span style="font-size:10.5pt\;">SHRM members: Earn 1.00 recertification credits for attending. No cost to participants.</span></span><br />\n						<span style="color:#EB4C39\;"><span style="font-size:10.5pt\;">Access information will be sent prior to the webinar.</span></span></td>\n					</tr>\n				</tbody>\n			</table>\n			</td>\n		</tr>\n	</tbody>\n</table>\n\n<div style="clear:both\;">&nbsp\;</div>\n</div>\n
LOCATION:Free Zoom Webinar Please submit questions by Friday\, February 11th REGISTER
UID:e.2126.23476
SEQUENCE:3
DTSTAMP:20260424T054806Z
URL:http://business.thequietresorts.com/events/details/paid-family-medical-leave-zoom-webinar-23476
END:VEVENT

END:VCALENDAR
