BEGIN:VCALENDAR
VERSION:2.0
PRODID:-//ChamberMaster//Event Calendar 2.0//EN
METHOD:PUBLISH
X-PUBLISHED-TTL:P3D
REFRESH-INTERVAL:P3D
CALSCALE:GREGORIAN
BEGIN:VEVENT
DTSTART:20210911T123000Z
DTEND:20210911T200000Z
X-MICROSOFT-CDO-ALLDAYEVENT:FALSE
SUMMARY:Paddle Second Chance
DESCRIPTION:Welcome to Delaware's Premier Paddlesport Event! The fun and friendly competition raise funds and awareness to strengthen the resilience of wounded\, ill or injured veterans and their caregivers. Join us on Saturday\, September 11th at Holt's Landing State Park in Dagsboro\, Delaware. In case of inclement weather or unsafe water conditions\, the rain date will be Sunday\, September 12th. The race venue will be open at 8:30 AM for check-in\, packet picks up\, numbering\, and same-day registration. The day will wrap up with an awards ceremony and a community picnic. Our paddle event has grown over the past 8 years\, with more than 300 in attendance at last count. Over $5\,000 in cash and gifts awarded to the top-performing athletes in each division and board class. Spread the word and get on board. It's never too early to help the cause! Online registration is now open. Early paddler discounts are available through June 30th. Spread the word and get on board. It's never too early to help the cause! Online registration is now open. Early paddler discounts are available through June 30th.
X-ALT-DESC;FMTTYPE=text/html:<span style="font-size:14px\;"><span style="font-family:arial\;">Welcome to Delaware&#39\;s Premier Paddlesport Event! The fun and friendly competition raise funds and awareness to strengthen the resilience of wounded\, ill or injured veterans and their caregivers. Join us on Saturday\, September 11th at Holt&rsquo\;s Landing State Park in Dagsboro\, Delaware. In case of inclement weather or unsafe water conditions\, the rain date will be Sunday\, September 12th. The race venue will be open at 8:30 AM for check-in\, packet picks up\, numbering\, and same-day registration. The day will wrap up with an awards ceremony and a community picnic. Our paddle event has grown over the past 8 years\, with more than 300 in attendance at last count. Over $5\,000 in cash and gifts awarded to the top-performing athletes in each division and board class. Spread the word and get on board. It&#39\;s never too early to help the cause! Online registration is now open. Early paddler discounts are available through June 30th. Spread the word and get on board. It&#39\;s never too early to help the cause! Online registration is now open. Early paddler discounts are available through June 30th.</span></span>
LOCATION:Holts Landing State Park 27046 Holts Landing Rd Dagsboro\, DE 19939
UID:e.2126.22578
SEQUENCE:3
DTSTAMP:20260424T152607Z
URL:http://business.thequietresorts.com/events/details/paddle-second-chance-09-11-2021-22578
END:VEVENT

END:VCALENDAR
