BEGIN:VCALENDAR
VERSION:2.0
PRODID:-//ChamberMaster//Event Calendar 2.0//EN
METHOD:PUBLISH
X-PUBLISHED-TTL:P3D
REFRESH-INTERVAL:P3D
CALSCALE:GREGORIAN
BEGIN:VEVENT
DTSTART:20231015T223000Z
DTEND:20231016T010000Z
X-MICROSOFT-CDO-ALLDAYEVENT:FALSE
SUMMARY:Over Time
DESCRIPTION:Originating in 2004 as a high school stage band led by retired high school band director Mark Marvel\, Over Time is known for bringing a unique style to classic rock hits and to popular music of today.
X-ALT-DESC;FMTTYPE=text/html:Originating in 2004 as a high school stage band led by retired high school band director Mark Marvel\, Over Time is known for bringing a unique style to classic rock hits and to popular music of today.&nbsp\;
LOCATION:Bethany Beach Bandstand
UID:e.2126.26642
SEQUENCE:3
DTSTAMP:20260420T182815Z
URL:http://business.thequietresorts.com/events/details/over-time-10-15-2023-26642
END:VEVENT

END:VCALENDAR
