BEGIN:VCALENDAR
VERSION:2.0
PRODID:-//ChamberMaster//Event Calendar 2.0//EN
METHOD:PUBLISH
X-PUBLISHED-TTL:P3D
REFRESH-INTERVAL:P3D
CALSCALE:GREGORIAN
BEGIN:VEVENT
DTSTART:20230109T150000Z
DTEND:20230109T170000Z
X-MICROSOFT-CDO-ALLDAYEVENT:FALSE
SUMMARY:Osher Lifelong Learning Institute Open House
DESCRIPTION:UD Osher Lifelong Learning Institute\n\nSpring Open House\n\nMonday\, January 9\, 2023\n\n10am-12pm\n\nTrinity Faith Education Building\n\nTours\, information\, registration assistance
X-ALT-DESC;FMTTYPE=text/html:<div style="text-align: center\;"><strong>UD Osher Lifelong Learning Institute</strong><br />\n<em><strong>Spring Open House</strong></em><br />\nMonday\, January 9\, 2023<br />\n10am-12pm<br />\nTrinity Faith Education Building<br />\n<span style="font-size:14px\;"><span style="font-family:arial\;">Tours\, information\, registration assistance</span></span></div>\n
LOCATION:Trinity Faith Education Building 15516 New Road Lewes\, DE 19958
UID:e.2126.24857
SEQUENCE:3
DTSTAMP:20260421T093026Z
URL:http://business.thequietresorts.com/events/details/osher-lifelong-learning-institute-open-house-24857
END:VEVENT

END:VCALENDAR
