BEGIN:VCALENDAR
VERSION:2.0
PRODID:-//ChamberMaster//Event Calendar 2.0//EN
METHOD:PUBLISH
X-PUBLISHED-TTL:P3D
REFRESH-INTERVAL:P3D
CALSCALE:GREGORIAN
BEGIN:VEVENT
DTSTART:20240329T190000Z
DTEND:20240329T203000Z
X-MICROSOFT-CDO-ALLDAYEVENT:FALSE
SUMMARY:One Wellness Spa & Boutique Grand Opening Ribbon Cutting
DESCRIPTION:Join the Bethany-Fenwick Area Chamber of Commerce on Friday\, March 29th\, for a ribbon cutting celebrating the grand opening of One Wellness Spa and Boutique!  The event will start at 3:00PM with the ribbon to be cut at 4:00PM.  Swing by at the end of your day for refreshments\, to meet the One Wellness team\, and learn more about this great new business in Frankford. \n\n\n\nAt One Wellness Spa\, they believe that true wellness encompasses harmony between the body\, mind\, and spirit.  The One Wellness team is dedicated to providing a holistic approach to well-being!
X-ALT-DESC;FMTTYPE=text/html:Join the Bethany-Fenwick Area Chamber of Commerce on Friday\, March 29th\, for a ribbon cutting celebrating the grand opening of One Wellness Spa and Boutique!&nbsp\; The event will start at 3:00PM with the ribbon to be cut at 4:00PM.&nbsp\; Swing by at the end of your day for refreshments\, to meet the One Wellness team\, and learn more about this great new business in Frankford.&nbsp\;<br />\n<br />\n<span style="font-size: 13px\;">At One Wellness Spa\, they believe that true wellness encompasses harmony between the body\, mind\, and spirit.&nbsp\; The One Wellness team is dedicated to providing a holistic approach to well-being!</span>
LOCATION:38427 Bethany Breeze Dr. Frankford\, DE 19945
UID:e.2126.28560
SEQUENCE:3
DTSTAMP:20260420T074849Z
URL:http://business.thequietresorts.com/events/details/one-wellness-spa-boutique-grand-opening-ribbon-cutting-28560
END:VEVENT

END:VCALENDAR
