BEGIN:VCALENDAR
VERSION:2.0
PRODID:-//ChamberMaster//Event Calendar 2.0//EN
METHOD:PUBLISH
X-PUBLISHED-TTL:P3D
REFRESH-INTERVAL:P3D
CALSCALE:GREGORIAN
BEGIN:VEVENT
DTSTART:20240615T160000Z
DTEND:20240615T170000Z
X-MICROSOFT-CDO-ALLDAYEVENT:FALSE
SUMMARY:On American Exceptionalism at Georgetown Public Library
DESCRIPTION:Take a trip back in Time with one of Delaware's Founding Fathers - Caesar Rodney.\n\nCome and learn the history of the founding of the State of Delaware and the United States of America on the 248th Anniversary Separation Day! from a man that was a part of it's creation.\n\nRegistration is recommended\, but not required.
X-ALT-DESC;FMTTYPE=text/html:<p>Take a trip back in Time with one of Delaware&#39\;s Founding Fathers - Caesar Rodney.<br />\nCome and learn the history of the founding of the State of Delaware and the United States of America on the 248th Anniversary Separation Day! from a man that was a part of it&#39\;s creation.</p>\n\n<p>Registration is recommended\, but not required.</p>\n
LOCATION:Georgetown Public Library 123 West Pine St. Georgetown\, DE 19947
UID:e.2126.29289
SEQUENCE:3
DTSTAMP:20260420T104416Z
URL:http://business.thequietresorts.com/events/details/on-american-exceptionalism-at-georgetown-public-library-29289
END:VEVENT

END:VCALENDAR
