BEGIN:VCALENDAR
VERSION:2.0
PRODID:-//ChamberMaster//Event Calendar 2.0//EN
METHOD:PUBLISH
X-PUBLISHED-TTL:P3D
REFRESH-INTERVAL:P3D
CALSCALE:GREGORIAN
BEGIN:VEVENT
DTSTART:20211021T193000Z
DTEND:20211021T203000Z
X-MICROSOFT-CDO-ALLDAYEVENT:FALSE
SUMMARY:Old Town Thrift & Gift "Ribbon Cutting"
DESCRIPTION:Join the staff at Old Town Thrift & Gift in celebrating the Grand Opening and Ribbon Cutting  of their store on Thursday\, 10/21/2021 beginning at 3:30 pm to 6:00 pm.   \n\n\n\nEnjoy refreshments and door prizes!
X-ALT-DESC;FMTTYPE=text/html:<br />\n<br />\n<span style="font-size:14px\;"><span style="font-family:arial\;"><span style="color: rgb(51\, 51\, 51)\; background-color: rgb(255\, 255\, 255)\;">Join the staff at Old Town Thrift &amp\; Gift in celebrating the Grand Opening and Ribbon Cutting&nbsp\; of their store on Thursday\, 10/21/2021 beginning at 3:30 pm to 6:00 pm.&nbsp\; &nbsp\;</span><br />\n<br />\nEnjoy refreshments and door prizes!&nbsp\;</span></span>
LOCATION:Old Town Thrift & Gift 79 West Church St Selbyville\, DE 19975
UID:e.2126.22970
SEQUENCE:3
DTSTAMP:20260424T120735Z
URL:http://business.thequietresorts.com/events/details/old-town-thrift-gift-ribbon-cutting-22970
END:VEVENT

END:VCALENDAR
