BEGIN:VCALENDAR
VERSION:2.0
PRODID:-//ChamberMaster//Event Calendar 2.0//EN
METHOD:PUBLISH
X-PUBLISHED-TTL:P3D
REFRESH-INTERVAL:P3D
CALSCALE:GREGORIAN
BEGIN:VEVENT
DTSTART:20230524T160000Z
DTEND:20230524T173000Z
X-MICROSOFT-CDO-ALLDAYEVENT:FALSE
SUMMARY:Old Pro Golf 60th Anniversary Celebration & Ribbon Cutting
DESCRIPTION:Join the Chamber staff in celebrating the 60th Anniversary of Old Pro Golf with a ribbon cutting on Wednesday\, May 24\, 2023!  The celebration begins at 12:00pm\, with the ribbon to be cut at 1:00pm.  Refreshments will be provided!
X-ALT-DESC;FMTTYPE=text/html:<span style="color: rgb(51\, 51\, 51)\; font-family: sans-serif\, Arial\, Verdana\, &quot\;Trebuchet MS&quot\;\; font-size: 13px\; background-color: rgb(255\, 255\, 255)\;">Join the Chamber staff in celebrating the 60th Anniversary of Old Pro Golf with a ribbon cutting on Wednesday\, May 24\, 2023!&nbsp\; The celebration begins at 12:00pm\, with the ribbon to be cut at 1:00pm.&nbsp\; Refreshments will be provided!</span><br />\n&nbsp\;
LOCATION:Old Pro Golf - 136th St. Location 13603 Coastal Highway Ocean City\, MD\, 21842
UID:e.2126.25574
SEQUENCE:3
DTSTAMP:20260421T040422Z
URL:http://business.thequietresorts.com/events/details/old-pro-golf-60th-anniversary-celebration-ribbon-cutting-25574
END:VEVENT

END:VCALENDAR
