BEGIN:VCALENDAR
VERSION:2.0
PRODID:-//ChamberMaster//Event Calendar 2.0//EN
METHOD:PUBLISH
X-PUBLISHED-TTL:P3D
REFRESH-INTERVAL:P3D
CALSCALE:GREGORIAN
BEGIN:VEVENT
DTSTART:20221001T170000Z
DTEND:20221001T220000Z
X-MICROSOFT-CDO-ALLDAYEVENT:FALSE
SUMMARY:OKTOBERFEST / BANKS-TOBERFEST
DESCRIPTION:Town of Millville Oktoberfest Festival Saturday October 1\, 2022\n\n**OUTDOOR ACTIVITIES ARE CANCELLED**\n\nBEER TASTINGS WILL BE HELD INDOORS -1pm-2pm for VIP ticket holders\n\n2pm-6pm all other ticketholders\n\nFOOD & DRINKS available by Doric Lodge-braided pretzels\, brats\, sauerkraut\, German potato salad\n\n\n\nNO TICKETS SOLD AT DOOR
X-ALT-DESC;FMTTYPE=text/html:Town of Millville Oktoberfest Festival Saturday October 1\, 2022<br />\n<strong><u>**OUTDOOR ACTIVITIES ARE CANCELLED**</u><br />\n<u>BEER TASTINGS WILL BE HELD INDOORS</u> -1pm-2pm for VIP ticket holders<br />\n2pm-6pm all other ticketholders</strong><br />\n<u><strong>FOOD &amp\; DRINKS</strong></u>&nbsp\;available by Doric Lodge-braided pretzels\, brats\, sauerkraut\, German potato salad<br />\n<br />\n<strong>NO TICKETS SOLD AT DOOR</strong>
LOCATION:Evans Park 32517 Dukes Drive Millville\, DE 19967
UID:e.2126.24085
SEQUENCE:3
DTSTAMP:20260421T160935Z
URL:http://business.thequietresorts.com/events/details/oktoberfest-banks-toberfest-24085
END:VEVENT

END:VCALENDAR
