BEGIN:VCALENDAR
VERSION:2.0
PRODID:-//ChamberMaster//Event Calendar 2.0//EN
METHOD:PUBLISH
X-PUBLISHED-TTL:P3D
REFRESH-INTERVAL:P3D
CALSCALE:GREGORIAN
BEGIN:VEVENT
DTSTART:20231004T120000Z
DTEND:20231004T133000Z
X-MICROSOFT-CDO-ALLDAYEVENT:FALSE
SUMMARY:October 2023 Membership Meeting - Mercantile Processing Inc.
DESCRIPTION:Join us for the October 2023 Membership Meeting at the Millville Community Center on Wednesday\, October 4th\, from 8:00 AM to 9:30AM!  Millville's own Mercantile Processing Inc. (MPI) will be presenting on their suite of products and services\, including an in-depth look at the exclusive BFACC member benefit that MPI offers: 10% reimbursement on merchant service fees!\n\n\n\nThere will be complimentary breakfast during the event\, courtesy of MPI.\n\n\n\nMPI has been a proud member of the Bethany-Fenwick Area Chamber of Commerce for over 10 years\, and helps local businesses with a suite of services including: \n\n	Credit Card Processing\n	Point of Sale Systems\n	Integrated Payments & MPI Gateway\n	Gift / Loyalty Card Printing\n	Payroll Solutions\n	ATM Machines
X-ALT-DESC;FMTTYPE=text/html:Join us for the October 2023 Membership Meeting at the Millville Community Center on Wednesday\, October 4th\, from 8:00 AM to 9:30AM!&nbsp\; Millville&#39\;s own Mercantile Processing Inc. (MPI) will be presenting on their suite of products and services\, including an in-depth look at the exclusive BFACC member benefit that MPI offers: 10% reimbursement on merchant service fees!<br />\n<br />\nThere will be complimentary breakfast during the event\, courtesy of MPI.<br />\n<br />\nMPI has been a proud member of the Bethany-Fenwick Area Chamber of Commerce for over 10 years\, and helps local businesses with a suite of services including:&nbsp\;\n<ul>\n	<li>Credit Card Processing</li>\n	<li>Point of Sale Systems</li>\n	<li>Integrated Payments &amp\; MPI Gateway</li>\n	<li>Gift / Loyalty Card Printing</li>\n	<li>Payroll Solutions</li>\n	<li>ATM Machines</li>\n</ul>\n
LOCATION:Millville Community Center 32517 Dukes Dr. Millville DE 19967
UID:e.2126.26933
SEQUENCE:3
DTSTAMP:20260420T182017Z
URL:http://business.thequietresorts.com/events/details/october-2023-membership-meeting-mercantile-processing-inc-26933
END:VEVENT

END:VCALENDAR
